BEGIN:VCALENDAR
VERSION:2.0
PRODID:-//Bonner Kaffeeschule - ECPv6.15.20//NONSGML v1.0//EN
CALSCALE:GREGORIAN
METHOD:PUBLISH
X-WR-CALNAME:Bonner Kaffeeschule
X-ORIGINAL-URL:https://www.bonner-kaffeeschule.de
X-WR-CALDESC:Veranstaltungen für Bonner Kaffeeschule
REFRESH-INTERVAL;VALUE=DURATION:PT1H
X-Robots-Tag:noindex
X-PUBLISHED-TTL:PT1H
BEGIN:VTIMEZONE
TZID:Europe/Berlin
BEGIN:DAYLIGHT
TZOFFSETFROM:+0100
TZOFFSETTO:+0200
TZNAME:CEST
DTSTART:20250330T010000
END:DAYLIGHT
BEGIN:STANDARD
TZOFFSETFROM:+0200
TZOFFSETTO:+0100
TZNAME:CET
DTSTART:20251026T010000
END:STANDARD
BEGIN:DAYLIGHT
TZOFFSETFROM:+0100
TZOFFSETTO:+0200
TZNAME:CEST
DTSTART:20260329T010000
END:DAYLIGHT
BEGIN:STANDARD
TZOFFSETFROM:+0200
TZOFFSETTO:+0100
TZNAME:CET
DTSTART:20261025T010000
END:STANDARD
BEGIN:DAYLIGHT
TZOFFSETFROM:+0100
TZOFFSETTO:+0200
TZNAME:CEST
DTSTART:20270328T010000
END:DAYLIGHT
BEGIN:STANDARD
TZOFFSETFROM:+0200
TZOFFSETTO:+0100
TZNAME:CET
DTSTART:20271031T010000
END:STANDARD
END:VTIMEZONE
BEGIN:VEVENT
DTSTART;VALUE=DATE:20260710
DTEND;VALUE=DATE:20261008
DTSTAMP:20260426T013029
CREATED:20220910T130429Z
LAST-MODIFIED:20260328T165712Z
UID:10000141-1783641600-1791417599@www.bonner-kaffeeschule.de
SUMMARY:Kursplanung quartalsmäßig
DESCRIPTION:Die Kurse werden ein Quartal im Voraus aufgesetzt. Alle Kurse werden auch im Laufe des Jahres weiter angeboten. Termine\, die auf der Website nicht zu finden sind\, sind noch nicht geplant. \nWer auf dem Laufenden bleiben mag\, kann gerne einfach den Kalender unten auf der Termin-Seite abonnieren.
URL:https://www.bonner-kaffeeschule.de/event/kursplanung-quartalsmaessig-2/
LOCATION:Bonner Kaffeeschule\, Klara-M.Faßbinder-Str. 6\, Bonn\, Nordrhein-Westfalen\, 53121\, Deutschland
CATEGORIES:Barista skills,Brewing,Freizeitkurs,Roasting,SCA-Kurse,Sensory skills
ATTACH;FMTTYPE=image/jpeg:https://www.bonner-kaffeeschule.de/wp-content/uploads/2021/06/Quartalsplanung2.jpg
ORGANIZER;CN="Bonner Kaffeeschule":MAILTO:info@bonner-kaffeeschule.de
GEO:50.7426609;7.0476329
X-APPLE-STRUCTURED-LOCATION;VALUE=URI;X-ADDRESS=Bonner Kaffeeschule Klara-M.Faßbinder-Str. 6 Bonn Nordrhein-Westfalen 53121 Deutschland;X-APPLE-RADIUS=500;X-TITLE=Klara-M.Faßbinder-Str. 6:geo:7.0476329,50.7426609
END:VEVENT
BEGIN:VEVENT
DTSTART;TZID=Europe/Berlin:20260907T100000
DTEND;TZID=Europe/Berlin:20260907T170000
DTSTAMP:20260426T013029
CREATED:20260222T154113Z
LAST-MODIFIED:20260315T181324Z
UID:10000451-1788775200-1788800400@www.bonner-kaffeeschule.de
SUMMARY:SCA Brewing Foundation
DESCRIPTION:Dieses Modul zeigt dem Anfänger/der Anfängerin eine Vielzahl von verschiedenen Brühmöglichkeiten\, mit denen man einen perfekten Kaffee bereiten kann. Nach einem kleinen Theorieteil und den sieben wichtigsten Brewing-Grundlagen\, geht es in die Praxis. Sie erhalten die Möglichkeit mit verschiedenen Brühmethoden (V60\, Kalita\, Wave\, French Press\, Chemex\, Moccamaster o.ä.) und Hilfsmitteln ihre Fähigkeiten zu vertiefen. Gleichzeitig werden wir unterschiedliche Kaffeesorten testen\, um den Geschmack und die Sensorik zu schulen. \nDer Kurs bietet die wichtigsten Informationen\, um die Brewing Foundation Zertifizierung zu bestehen: eine kurze praktische und eine schriftlichen Prüfung (15 Fragen\, 60% erforderlich). Mit Bestehen werden 5 Punkte des SCA Kaffee Diploms vergeben. Der Kurs dauert einen Tag. Für dieses Modul sind keine Vorkenntnisse erforderlich. Es wird jedoch empfohlen\, vorher das Modul „Introduction to coffee" zu absolvieren. Leidenschaft für hervorragenden Kaffee ist allerdings unerlässlich! \n\nDie RahmendatenAnmeldung zur Online-PrüfungDie Rahmendaten \n\nZielgruppe: Kaffeeliebhaber\, die ihr Wissen vertiefen möchten.\nSeminardauer: 10-17.30 Uhr\nTeilnahmegebühr: 369\,- € inkl. Prüfungsgebühren und MwSt. Nicht enthalten sind Unterkunft und Verpflegung.\nPrüfungsgebühr der SCA: 119 €\, CDS Punkte: 5.\nBildungsscheck: 50% der Workshopkosten können durch einen Bildungsscheck des Landes NRW übernommen werden.\nTeilnehmer: mindestens 2\, max. 6 Personen \n\nAnmeldung zur Online-Prüfung \nBitte gleichzeitig mit der Buchung eine Teilnahme zur theoretischen Prüfung über die SCA-Website anmelden:\n1. Melde einen Account auf der SCA-Website an. “Create a new account.”\n2. Dort einloggen und eingeloggt dem Link folgen und anschließend bitte dort gleich für die Prüfung (Request Enrollment) anmelden: scae.com/training-and-education/ \n \nBitte gleichzeitig mit der Buchung eine Teilnahme zur theoretischen Prüfung über die SCA-Website anmelden.
URL:https://www.bonner-kaffeeschule.de/event/sca-brewing-foundation-19/
LOCATION:Bonner Kaffeeschule\, Klara-M.Faßbinder-Str. 6\, Bonn\, Nordrhein-Westfalen\, 53121\, Deutschland
CATEGORIES:Brewing,SCA-Kurse
ATTACH;FMTTYPE=image/jpeg:https://www.bonner-kaffeeschule.de/wp-content/uploads/2021/05/Brewing21_2.jpg
ORGANIZER;CN="Bonner Kaffeeschule":MAILTO:info@bonner-kaffeeschule.de
GEO:50.7426609;7.0476329
X-APPLE-STRUCTURED-LOCATION;VALUE=URI;X-ADDRESS=Bonner Kaffeeschule Klara-M.Faßbinder-Str. 6 Bonn Nordrhein-Westfalen 53121 Deutschland;X-APPLE-RADIUS=500;X-TITLE=Klara-M.Faßbinder-Str. 6:geo:7.0476329,50.7426609
END:VEVENT
BEGIN:VEVENT
DTSTART;TZID=Europe/Berlin:20260908T100000
DTEND;TZID=Europe/Berlin:20260909T170000
DTSTAMP:20260426T013029
CREATED:20260222T154309Z
LAST-MODIFIED:20260315T181607Z
UID:10000452-1788861600-1788973200@www.bonner-kaffeeschule.de
SUMMARY:SCA Brewing Intermediate
DESCRIPTION:Im Modul Brewing Intermediate steigen wir tief ein in die Materie von Extraktionstheorie und Brühpraxis: \n\n\nAuswirkungen von Brühmethoden und Filtermedien\,\nEinfluß von Mühlenqualität\, Mahlgrad und unterschiedlicher Partikelgrößen (samt ihrer Analyse) im Mahlgut\nWasser-Temperatur und Wasserqualitäten\nAuswirkungen verschiedener Röststufen\nMessung der Stoffe mit Refraktometer und Steuerung der Extraktion mit dem Brewing Control Chart\n\nAll das hat Einfluß auf die Extraktion und die Qualität des gebrühten Kaffees. Theoretisch und praktisch werden wir unterschiedliche Mahlgrade\, Wasserqualitäten in verschiedenen Zubereitungsmethoden testen und verkosten. Dabei wollen wir objektiv zwischen Brühstärke und Extraktion unterscheiden und das Ganze in ein Brewing-Control-Chart übersetzen\, um dabei die Kaffees immer wieder auch sensorisch zu überprüfen. Hier liegt der Kern aller Zubereitung. \nAm Ende des Kurses haben wir gelernt\, wie man wissenschaftlich Kaffeestärke und Extraktion misst und in ein Extraktions-Diagramm (Brewing-Control-Chart) übersetzt. Die Technik lässt sich auf Filterkaffee und Espresso anwenden. Nach der Analyse können wir Brührezepte mit Hilfe des digitalen Refraktometers entwicklen\, um eine geschmacklich ausgewogene Tasse herzustellen und dies auch reproduzierbar zu machen. \n \nWir empfehlen\, Vorerfahrungen im Brewing und/oder den vorigen Besuch der Kurse Brewing Foundation und Introduction. Der Kurs selbst bietet die wichtigsten Informationen\, um die Brewing Intermediate Zertifizierung zu bestehen: 25 Fragen\, von denen 70% richtig beantwortet sein müssen. Dazu verschiedene praktische Prüfungen rund um das Thema Brewing. Erfolgreiche Absolventen erhalten 10 Punkte für das SCA Kaffee Diplom. Der Kurs dauert zwei Tage. \n  \n\nDie RahmendatenAnmeldung zur Online-PrüfungDie Rahmendaten \nZielgruppe: Kaffeeprofis\, die sich intensiv mit Extraktionssteuerung und deren Bemessung beschäftigen wollen\, Kaffeeliebhaber/innen\, die ihr Wissen vertiefen möchten.\nSeminardauer: Zwei Tage 10-17/17.30 Uhr\nTeilnahmegebühr: 769\,-. Darin enthalten sind 243\,95 € brutto Prüfungsgebühr der SCA. Nicht enthalten sind Unterkunft und Verpflegung. CDS Punkte: 10\nBildungsscheck: 50% der Workshopkosten können durch einen Bildungsscheck des Landes NRW übernommen werden.\nTeilnehmer: mindestens 2\, max. 6 Personen\nVorerfahrung: Der Brewing-Foundation-Kurs ist sehr hilfreich\, das Know-How um die Grundlagen des Brühens und der verschiedenen Brühmethoden wird im Intermediate vorausgesetzt und nicht wiederholt. \nAnmeldung zur Online-Prüfung \nBitte gleichzeitig mit der Buchung eine Teilnahme zur theoretischen Prüfung über die SCA-Website anmelden: \n1. Melde einen Account auf der SCA-Website an. “Create a new account.”\n2. Dort einloggen und eingeloggt dem Link folgen und anschließend bitte dort gleich für die Prüfung (Request Enrollment) anmelden: scae.com/training-and-education/. \n \nBitte gleichzeitig mit der Buchung eine Teilnahme zur theoretischen Prüfung über die SCA-Website anmelden.
URL:https://www.bonner-kaffeeschule.de/event/sca-brewing-intermediate-19/
LOCATION:Bonner Kaffeeschule\, Klara-M.Faßbinder-Str. 6\, Bonn\, Nordrhein-Westfalen\, 53121\, Deutschland
CATEGORIES:Brewing,SCA-Kurse
ATTACH;FMTTYPE=image/jpeg:https://www.bonner-kaffeeschule.de/wp-content/uploads/2021/05/Brewing21_2.jpg
ORGANIZER;CN="Bonner Kaffeeschule":MAILTO:info@bonner-kaffeeschule.de
GEO:50.7426609;7.0476329
X-APPLE-STRUCTURED-LOCATION;VALUE=URI;X-ADDRESS=Bonner Kaffeeschule Klara-M.Faßbinder-Str. 6 Bonn Nordrhein-Westfalen 53121 Deutschland;X-APPLE-RADIUS=500;X-TITLE=Klara-M.Faßbinder-Str. 6:geo:7.0476329,50.7426609
END:VEVENT
END:VCALENDAR