BEGIN:VCALENDAR
VERSION:2.0
PRODID:-//Bonner Kaffeeschule - ECPv6.15.20//NONSGML v1.0//EN
CALSCALE:GREGORIAN
METHOD:PUBLISH
X-WR-CALNAME:Bonner Kaffeeschule
X-ORIGINAL-URL:https://www.bonner-kaffeeschule.de
X-WR-CALDESC:Veranstaltungen für Bonner Kaffeeschule
REFRESH-INTERVAL;VALUE=DURATION:PT1H
X-Robots-Tag:noindex
X-PUBLISHED-TTL:PT1H
BEGIN:VTIMEZONE
TZID:Europe/Berlin
BEGIN:DAYLIGHT
TZOFFSETFROM:+0100
TZOFFSETTO:+0200
TZNAME:CEST
DTSTART:20250330T010000
END:DAYLIGHT
BEGIN:STANDARD
TZOFFSETFROM:+0200
TZOFFSETTO:+0100
TZNAME:CET
DTSTART:20251026T010000
END:STANDARD
BEGIN:DAYLIGHT
TZOFFSETFROM:+0100
TZOFFSETTO:+0200
TZNAME:CEST
DTSTART:20260329T010000
END:DAYLIGHT
BEGIN:STANDARD
TZOFFSETFROM:+0200
TZOFFSETTO:+0100
TZNAME:CET
DTSTART:20261025T010000
END:STANDARD
BEGIN:DAYLIGHT
TZOFFSETFROM:+0100
TZOFFSETTO:+0200
TZNAME:CEST
DTSTART:20270328T010000
END:DAYLIGHT
BEGIN:STANDARD
TZOFFSETFROM:+0200
TZOFFSETTO:+0100
TZNAME:CET
DTSTART:20271031T010000
END:STANDARD
END:VTIMEZONE
BEGIN:VEVENT
DTSTART;TZID=Europe/Berlin:20260301T000000
DTEND;TZID=Europe/Berlin:20260829T000000
DTSTAMP:20260425T193218
CREATED:20260101T162756Z
LAST-MODIFIED:20260120T161804Z
UID:10000439-1772323200-1787961600@www.bonner-kaffeeschule.de
SUMMARY:SCA Roastery Diploma - Basics
DESCRIPTION:Die Speciality Coffee Association (SCA) ist die weltweite Instanz für Spezialitätenkaffee. Sie bietet mit ihren einheitlichem Ausbildungs- und Zertifizierungsprogramm gewissermaßen ein weltweites Zentralabitur für das Kaffeebusiness. Neben dem Cafè Diploma\, dem Coffee Trade Diploma und dem Sustainable Coffee Diploma finden wir mit dem Roastery Diploma einen Abschluss der Specialty Coffee Association\, der fachlich auf den eigenstänigen Betrieb einer Rösterei abzielt. \n  \n  \nDieser Abschluss kann erreicht werden durch das das erfolgreiche Absolvieren einzelner Ausbildungsmodule. Jedes dieser Module wird durch je eigene theoretische und praktische Prüfungen abgeschlossen. Mit bestandenen Prüfungen erhältst du eine entsprechende Zertifizierung. Alle Punkte und Zertifikate werden in deinem SCA-Account gesammelt\, so dass am Ende – je nach Ausbildungsweg – ein Diplom bei der SCA erlangt werden kann. \n  \n \n  \nFür das Roastery Diploma bieten wir nun erstmals ein Starter-Paket an: SCA Roastery Diploma – Basics \nHier werden in einem Zeitraum von vier bis sechs Monaten die Einzelmodule\n– Brewing Foundation und Intermediate\n– Sensory Foundation\, Intermediate und Professional\n– Roasting Foundation und Intermediate \nzusammen angeboten. Das zweite Paket enthält Green Coffee Foundation\, Roasting Professional und die beiden Foundation Kurse “Water & Preventive Maintenance” und “Coffee Sustanability Foundation”. Wir werden das zweite Paket ab Winter ’26/’27 anbieten. Zwischen den ersten beiden Roasting-Modulen und dem Professional sollten 6-12 Monate Erfahrungen am Röster gesammelt werden. \nDie aktuellen Termine der Module: \nSCA Roastery Diploma – Basics1. März @ 00:00 - 29. August @ 00:00  CET Betriebsferien13. April - 29. AprilWerksverkauf: Bonner Kaffeebrennerei2. Mai @ 11:00 - 14:00  CEST Teamcoaching – geschlossene Veranstaltung11. Mai - 13. MaiSCA-Sensory Foundation27. Mai @ 10:00 - 17:00  CEST SCA Sensory Intermediate28. Mai @ 10:00 - 29. Mai @ 17:00  CEST SCA Sensory Professional6. Juli @ 10:00 - 8. Juli @ 17:00  CEST Kursplanung quartalsmäßig10. Juli - 7. OktoberTeamcoaching: Sensorik – geschlossene Veranstaltung27. Juli - 29. JuliSCA Roasting24. August @ 10:00 - 27. August @ 17:00  CEST \nDas Gesamtpaket beinhalten die Workshoppreise und sämtliche Zertifizierungskosten der Specialty Coffee Association. Als Einzelkurse: 5.054\,-\, im Paket 4.800\,- €
URL:https://www.bonner-kaffeeschule.de/event/sca-roastery-diploma-basics/
LOCATION:Bonner Kaffeeschule\, Klara-M.Faßbinder-Str. 6\, Bonn\, Nordrhein-Westfalen\, 53121\, Deutschland
CATEGORIES:Roasting
ATTACH;FMTTYPE=image/jpeg:https://www.bonner-kaffeeschule.de/wp-content/uploads/2023/10/roasting_SCA.jpg
GEO:50.7426609;7.0476329
X-APPLE-STRUCTURED-LOCATION;VALUE=URI;X-ADDRESS=Bonner Kaffeeschule Klara-M.Faßbinder-Str. 6 Bonn Nordrhein-Westfalen 53121 Deutschland;X-APPLE-RADIUS=500;X-TITLE=Klara-M.Faßbinder-Str. 6:geo:7.0476329,50.7426609
END:VEVENT
BEGIN:VEVENT
DTSTART;TZID=Europe/Berlin:20260303T100000
DTEND;TZID=Europe/Berlin:20260303T170000
DTSTAMP:20260425T193218
CREATED:20251109T141453Z
LAST-MODIFIED:20260216T162451Z
UID:10000426-1772532000-1772557200@www.bonner-kaffeeschule.de
SUMMARY:SCA-Sensory Foundation - ausgebucht
DESCRIPTION:Lernen Sie im Basiskurs der Kaffeesensorik die wesentlichen Elemente einer sensorische Bewertung von Kaffee. Durch praktische Methoden verschaffen wir uns das Know-how im Geschmack gewinnen und lernen\, wie sie durch die folgenden Bereiche für die Bewertung von Spezialitätenkaffee anzuwenden: \n\n– Einführung in die Identifizierung von Speciality Coffee im Vergleich zu konventionellem Kaffee\n– Bedeutung der sensorischen Beurteilung von Kaffee und des Cuppings als Werkzeug\n– Physiologie der Sinne: Olfaktorik und Gustatorik\n– Identifizieren verschiedener Geschmacksrichtungen und Aromen\, die im Kaffee zu finden sind\n– Kernelemente sensorische Kaffee-Analyse\n\nDie SCA Sensory Foundation-Zertifizierung besteht aus vier kurzen praktischen Prüfungen und einer Online-Prüfung (15 Fragen – 60% erforderlich) innerhalb von sieben Tagen nach dem Workshop. \n\nDie RahmendatenAnmeldung zur PrüfungDie Rahmendaten \nZielgruppe: Kaffeeliebhaber/innen\, die ihr Wissen vertiefen möchten. Kaffeeprofis.\nSeminardauer: 10-17/17.30 Uhr\nTeilnahmegebühr: 369\,- € inkl. Prüfungsgebühren und MwSt. Nicht enthalten sind Unterkunft und Verpflegung.\nPrüfungsgebühr der SCA: 119 € im Preis enthalten\, CDS Punkte: 5.\nBildungsprämie: 50% (bzw. max. 500\,-€) der Workshopkosten können durch einen Bildungsscheck des Landes NRW übernommen werden.\nTeilnehmer: mindestens 2\, max. 6 Personen \nAnmeldung zur Prüfung \nBitte gleichzeitig mit der Buchung eine Teilnahme zur theoretischen Prüfung über die SCA-Website anmelden:\n1. Eröffne einen Account auf der SCA-Website. “Create an account”.\n2. Eingeloggt dem Link folgen und anschließend bitte dort gleich für die Prüfung (Request Enrollment) anmelden: scae.com/training-and-education/. \n \nBitte gleichzeitig mit der Buchung eine Teilnahme zur theoretischen Prüfung über die SCA-Website anmelden. \nAnmeldung zur Prüfung \nBitte gleichzeitig mit der Buchung eine Teilnahme zur theoretischen Prüfung über die SCA-Website anmelden:\n1. Melde einen Account an.\n2. Login mit dem neuen Account.\n3. Eingeloggt dem Link folgen und anschließend bitte dort gleich für die Prüfung (Request Enrollment) anmelden: specialtycoffee.my.site.com. Die Prüfung ist im Anschluss an den Workshop möglich\, die Anmeldung muss zwingend vor Workshopbeginn geschehen.
URL:https://www.bonner-kaffeeschule.de/event/sca-sensory-foundation-18/
LOCATION:Bonner Kaffeeschule\, Klara-M.Faßbinder-Str. 6\, Bonn\, Nordrhein-Westfalen\, 53121\, Deutschland
CATEGORIES:SCA-Kurse,Sensory skills
ATTACH;FMTTYPE=image/jpeg:https://www.bonner-kaffeeschule.de/wp-content/uploads/2021/05/Sensory21_2-1.jpg
ORGANIZER;CN="Bonner Kaffeeschule":MAILTO:info@bonner-kaffeeschule.de
GEO:50.7426609;7.0476329
X-APPLE-STRUCTURED-LOCATION;VALUE=URI;X-ADDRESS=Bonner Kaffeeschule Klara-M.Faßbinder-Str. 6 Bonn Nordrhein-Westfalen 53121 Deutschland;X-APPLE-RADIUS=500;X-TITLE=Klara-M.Faßbinder-Str. 6:geo:7.0476329,50.7426609
END:VEVENT
BEGIN:VEVENT
DTSTART;TZID=Europe/Berlin:20260304T100000
DTEND;TZID=Europe/Berlin:20260305T170000
DTSTAMP:20260425T193218
CREATED:20251109T142027Z
LAST-MODIFIED:20251211T133055Z
UID:10000427-1772618400-1772730000@www.bonner-kaffeeschule.de
SUMMARY:SCA Sensory Intermediate
DESCRIPTION:Das Intermediate-Level ist ideal für alle\, die bereits im Kaffeebereich tätig sind und die ihre Sensorik-Kenntnisse entwickeln/vertiefen wollen. Es gliedert sich in drei Bereiche: Wie wir schmecken\, wahrnehmen und interpretieren. Dazu nach der gehören nach der \n– Einführung in die Sinnes-Physiologie des Menschen\n– Wahrnehmungsintensitäten von Geschmackslösungen\n– Aromenidentifizierung\n– das Aufsetzen einer Cupping-Session\n– das Verkosten einer Vielzahl unterschiedlicher Kaffees mit Hilfe vorgegebener Attribute\, um die Wahrnehmung der qualitativen und quantitativen Unterschiede zu systematisieren\,\n– die Kommunikation dieser Unterschiede mit Hilfe von Descriptoren. \nDer Kurs schliesst mit einer ausführlichen (vierteiligen) praktischen und theoretischen Prüfung (25 Frage\, 70% erforderlich). Bei Nichtbestehen kann die Prüfung einmal wiederholt werden. \n\nDie RahmendatenAnmeldung zur PrüfungDie Rahmendaten \nZielgruppe: Kaffeeprofis\, die ihr Wissen und ihre sensorischen Fähigkeiten vertiefen möchten. Die Grundlagen aus dem Sensory Foundation werden vorausgesetzt und nicht separat wiederholt.\nSeminardauer: Zwei Tage – 10-17 Uhr\nTeilnahmegebühr: 749\,-. Darin enthalten sind 243\,95 € brutto Prüfungsgebühr der SCA. Nicht enthalten sind Unterkunft und Verpflegung. CDS Punkte: 10\nBildungsprämie: 50% (bzw. max. 500\,-€) der Workshopkosten können durch einen Bildungsscheck des Landes NRW übernommen werden.\nTeilnehmer: mindestens 2\, max. 6 Personen \nAnmeldung zur Prüfung \nBitte gleichzeitig mit der Buchung eine Teilnahme zur theoretischen Prüfung über die SCA-Website anmelden:\n1. Eröffne einen Account auf der SCA-Website. “Create an account”.\n2. Eingeloggt dem Link folgen und anschließend bitte dort gleich für die Prüfung (Request Enrollment) anmelden: scae.com/training-and-education/. \n \nBitte gleichzeitig mit der Buchung eine Teilnahme zur theoretischen Prüfung über die SCA-Website anmelden. \nAnmeldung zur Prüfung \nBitte gleichzeitig mit der Buchung eine Teilnahme zur theoretischen Prüfung über die SCA-Website anmelden:\n1. Melde einen Account an.\n2. Login mit dem neuen Account.\n3. Eingeloggt dem Link folgen und anschließend bitte dort gleich für die Prüfung (Request Enrollment) anmelden: specialtycoffee.my.site.com. Die Prüfung ist im Anschluss an den Workshop möglich\, die Anmeldung muss zwingend vor Workshopbeginn geschehen.
URL:https://www.bonner-kaffeeschule.de/event/sca-sensory-intermediate-18/
LOCATION:Bonner Kaffeeschule\, Klara-M.Faßbinder-Str. 6\, Bonn\, Nordrhein-Westfalen\, 53121\, Deutschland
CATEGORIES:SCA-Kurse,Sensory skills
ATTACH;FMTTYPE=image/jpeg:https://www.bonner-kaffeeschule.de/wp-content/uploads/2021/05/Sensory21_2-1.jpg
ORGANIZER;CN="Bonner Kaffeeschule":MAILTO:info@bonner-kaffeeschule.de
GEO:50.7426609;7.0476329
X-APPLE-STRUCTURED-LOCATION;VALUE=URI;X-ADDRESS=Bonner Kaffeeschule Klara-M.Faßbinder-Str. 6 Bonn Nordrhein-Westfalen 53121 Deutschland;X-APPLE-RADIUS=500;X-TITLE=Klara-M.Faßbinder-Str. 6:geo:7.0476329,50.7426609
END:VEVENT
BEGIN:VEVENT
DTSTART;TZID=Europe/Berlin:20260307T110000
DTEND;TZID=Europe/Berlin:20260307T140000
DTSTAMP:20260425T193218
CREATED:20250708T130427Z
LAST-MODIFIED:20260401T060123Z
UID:10000436-1772881200-1772892000@www.bonner-kaffeeschule.de
SUMMARY:Werksverkauf: Bonner Kaffeebrennerei
DESCRIPTION:Handwerklich geröstet\, von ausgesuchten Plantagen aus Brasilien\, Guatemala\, Kolumbien\, Äthiopien\, Ruanda und Indien. \nIm Verkostungswettbewerb der deutschen Röstergilde 2025 mit Gold ausgezeichnet: Under Pressure #2 – als Espresso oder Café Crème mit einer Aromatik von roten Früchten und karamelligen Noten. Mit Milch kann’s süchtig machen…. Bombtrack – ein nussigschokoladiger Blend für Siebträger uns Vollautomaten und ein besonderes Special: Die saisonalen Kaffees Changes #1 bis #4 – als Filterkaffee sind zurück für kurze Zeit. Ein wunderbarer Single-Origin Filterkaffee als Mitbringsel vom Fieldtrip nach Ruanda. \nMehr Infos zu den Kaffees unter: bonner-kaffeebrennerei.de \nDer eine oder andere Filterkaffee steht zum Probieren bereit… Drum erwartet bitte nicht die Geschwindigkeit wie an der Discounter-Kasse ;-)
URL:https://www.bonner-kaffeeschule.de/event/werksevrkauf-bonner-kaffeebrennerei/2026-03-07/
LOCATION:Bonner Kaffeeschule\, Klara-M.Faßbinder-Str. 6\, Bonn\, Nordrhein-Westfalen\, 53121\, Deutschland
CATEGORIES:Roasting
ATTACH;FMTTYPE=image/jpeg:https://www.bonner-kaffeeschule.de/wp-content/uploads/2021/05/BonnerKaffeebrennerei_2.jpg
ORGANIZER;CN="Bonner Kaffeeschule":MAILTO:info@bonner-kaffeeschule.de
GEO:50.7426609;7.0476329
X-APPLE-STRUCTURED-LOCATION;VALUE=URI;X-ADDRESS=Bonner Kaffeeschule Klara-M.Faßbinder-Str. 6 Bonn Nordrhein-Westfalen 53121 Deutschland;X-APPLE-RADIUS=500;X-TITLE=Klara-M.Faßbinder-Str. 6:geo:7.0476329,50.7426609
END:VEVENT
END:VCALENDAR