BEGIN:VCALENDAR
VERSION:2.0
PRODID:-//Bonner Kaffeeschule - ECPv6.15.20//NONSGML v1.0//EN
CALSCALE:GREGORIAN
METHOD:PUBLISH
X-ORIGINAL-URL:https://www.bonner-kaffeeschule.de
X-WR-CALDESC:Veranstaltungen für Bonner Kaffeeschule
REFRESH-INTERVAL;VALUE=DURATION:PT1H
X-Robots-Tag:noindex
X-PUBLISHED-TTL:PT1H
BEGIN:VTIMEZONE
TZID:Europe/Berlin
BEGIN:DAYLIGHT
TZOFFSETFROM:+0100
TZOFFSETTO:+0200
TZNAME:CEST
DTSTART:20240331T010000
END:DAYLIGHT
BEGIN:STANDARD
TZOFFSETFROM:+0200
TZOFFSETTO:+0100
TZNAME:CET
DTSTART:20241027T010000
END:STANDARD
BEGIN:DAYLIGHT
TZOFFSETFROM:+0100
TZOFFSETTO:+0200
TZNAME:CEST
DTSTART:20250330T010000
END:DAYLIGHT
BEGIN:STANDARD
TZOFFSETFROM:+0200
TZOFFSETTO:+0100
TZNAME:CET
DTSTART:20251026T010000
END:STANDARD
BEGIN:DAYLIGHT
TZOFFSETFROM:+0100
TZOFFSETTO:+0200
TZNAME:CEST
DTSTART:20260329T010000
END:DAYLIGHT
BEGIN:STANDARD
TZOFFSETFROM:+0200
TZOFFSETTO:+0100
TZNAME:CET
DTSTART:20261025T010000
END:STANDARD
END:VTIMEZONE
BEGIN:VEVENT
DTSTART;VALUE=DATE:20251219
DTEND;VALUE=DATE:20251222
DTSTAMP:20260425T235506
CREATED:20251101T130003Z
LAST-MODIFIED:20251101T130241Z
UID:10000423-1766102400-1766361599@www.bonner-kaffeeschule.de
SUMMARY:Sensory Days: CVA for Cuppers / geschlossene Veranstaltung
DESCRIPTION:Geschlossene Veranstaltung: Teamcoaching – CVA for Cuppers als neues Protokoll der SCA zur Qualitätsbestimmung von Kaffee \n 
URL:https://www.bonner-kaffeeschule.de/event/sensory-days-cva-for-cuppers/
LOCATION:Bonner Kaffeeschule\, Klara-M.Faßbinder-Str. 6\, Bonn\, Nordrhein-Westfalen\, 53121\, Deutschland
CATEGORIES:SCA-Kurse,Sensory skills
ATTACH;FMTTYPE=image/jpeg:https://www.bonner-kaffeeschule.de/wp-content/uploads/2021/05/Sensory21_2-1.jpg
ORGANIZER;CN="Bonner Kaffeeschule":MAILTO:info@bonner-kaffeeschule.de
GEO:50.7426609;7.0476329
X-APPLE-STRUCTURED-LOCATION;VALUE=URI;X-ADDRESS=Bonner Kaffeeschule Klara-M.Faßbinder-Str. 6 Bonn Nordrhein-Westfalen 53121 Deutschland;X-APPLE-RADIUS=500;X-TITLE=Klara-M.Faßbinder-Str. 6:geo:7.0476329,50.7426609
END:VEVENT
END:VCALENDAR