BEGIN:VCALENDAR
VERSION:2.0
PRODID:-//Bonner Kaffeeschule - ECPv6.15.20//NONSGML v1.0//EN
CALSCALE:GREGORIAN
METHOD:PUBLISH
X-WR-CALNAME:Bonner Kaffeeschule
X-ORIGINAL-URL:https://www.bonner-kaffeeschule.de
X-WR-CALDESC:Veranstaltungen für Bonner Kaffeeschule
REFRESH-INTERVAL;VALUE=DURATION:PT1H
X-Robots-Tag:noindex
X-PUBLISHED-TTL:PT1H
BEGIN:VTIMEZONE
TZID:Europe/Berlin
BEGIN:DAYLIGHT
TZOFFSETFROM:+0100
TZOFFSETTO:+0200
TZNAME:CEST
DTSTART:20240331T010000
END:DAYLIGHT
BEGIN:STANDARD
TZOFFSETFROM:+0200
TZOFFSETTO:+0100
TZNAME:CET
DTSTART:20241027T010000
END:STANDARD
BEGIN:DAYLIGHT
TZOFFSETFROM:+0100
TZOFFSETTO:+0200
TZNAME:CEST
DTSTART:20250330T010000
END:DAYLIGHT
BEGIN:STANDARD
TZOFFSETFROM:+0200
TZOFFSETTO:+0100
TZNAME:CET
DTSTART:20251026T010000
END:STANDARD
BEGIN:DAYLIGHT
TZOFFSETFROM:+0100
TZOFFSETTO:+0200
TZNAME:CEST
DTSTART:20260329T010000
END:DAYLIGHT
BEGIN:STANDARD
TZOFFSETFROM:+0200
TZOFFSETTO:+0100
TZNAME:CET
DTSTART:20261025T010000
END:STANDARD
END:VTIMEZONE
BEGIN:VEVENT
DTSTART;TZID=Europe/Berlin:20251117T100000
DTEND;TZID=Europe/Berlin:20251117T170000
DTSTAMP:20260426T012931
CREATED:20250711T064143Z
LAST-MODIFIED:20250718T142634Z
UID:10000392-1763373600-1763398800@www.bonner-kaffeeschule.de
SUMMARY:SCA-Sensory Foundation
DESCRIPTION:Lernen Sie im Basiskurs der Kaffeesensorik die wesentlichen Elemente einer sensorische Bewertung von Kaffee. Durch praktische Methoden verschaffen wir uns das Know-how im Geschmack gewinnen und lernen\, wie sie durch die folgenden Bereiche für die Bewertung von Spezialitätenkaffee anzuwenden: \n\n– Einführung in die Identifizierung von Speciality Coffee im Vergleich zu konventionellem Kaffee\n– Bedeutung der sensorischen Beurteilung von Kaffee und des Cuppings als Werkzeug\n– Physiologie der Sinne: Olfaktorik und Gustatorik\n– Identifizieren verschiedener Geschmacksrichtungen und Aromen\, die im Kaffee zu finden sind\n– Kernelemente sensorische Kaffee-Analyse\n\nDie SCA Sensory Foundation-Zertifizierung besteht aus vier kurzen praktischen Prüfungen und einer Online-Prüfung (15 Fragen – 60% erforderlich) innerhalb von sieben Tagen nach dem Workshop. \n\nDie RahmendatenAnmeldung zur PrüfungDie Rahmendaten \nZielgruppe: Kaffeeliebhaber/innen\, die ihr Wissen vertiefen möchten. Kaffeeprofis.\nSeminardauer: 10-17/17.30 Uhr\nTeilnahmegebühr: 369\,- € inkl. Prüfungsgebühren und MwSt. Nicht enthalten sind Unterkunft und Verpflegung.\nPrüfungsgebühr der SCA: 119 € im Preis enthalten\, CDS Punkte: 5.\nBildungsprämie: 50% (bzw. max. 500\,-€) der Workshopkosten können durch einen Bildungsscheck des Landes NRW übernommen werden.\nTeilnehmer: mindestens 2\, max. 6 Personen \nAnmeldung zur Prüfung \nBitte gleichzeitig mit der Buchung eine Teilnahme zur theoretischen Prüfung über die SCA-Website anmelden:\n1. Eröffne  einen Account auf der SCA-Website. “Create an account”.\n2. Eingeloggt dem Link folgen und anschließend bitte dort gleich für die Prüfung (Request Enrollment) anmelden: scae.com/training-and-education/. \n \nBitte gleichzeitig mit der Buchung eine Teilnahme zur theoretischen Prüfung über die SCA-Website anmelden. \nAnmeldung zur Prüfung \nBitte gleichzeitig mit der Buchung eine Teilnahme zur theoretischen Prüfung über die SCA-Website anmelden:\n1. Melde einen Account an.\n2. Login mit dem neuen Account.\n3. Eingeloggt dem Link folgen und anschließend bitte dort gleich für die Prüfung (Request Enrollment) anmelden: specialtycoffee.my.site.com. Die Prüfung ist im Anschluss an den Workshop möglich\, die Anmeldung muss zwingend vor Workshopbeginn geschehen.
URL:https://www.bonner-kaffeeschule.de/event/sca-sensory-foundation-17/
LOCATION:Bonner Kaffeeschule\, Klara-M.Faßbinder-Str. 6\, Bonn\, Nordrhein-Westfalen\, 53121\, Deutschland
CATEGORIES:SCA-Kurse,Sensory skills
ATTACH;FMTTYPE=image/jpeg:https://www.bonner-kaffeeschule.de/wp-content/uploads/2021/05/Sensory21_2-1.jpg
ORGANIZER;CN="Bonner Kaffeeschule":MAILTO:info@bonner-kaffeeschule.de
GEO:50.7426609;7.0476329
X-APPLE-STRUCTURED-LOCATION;VALUE=URI;X-ADDRESS=Bonner Kaffeeschule Klara-M.Faßbinder-Str. 6 Bonn Nordrhein-Westfalen 53121 Deutschland;X-APPLE-RADIUS=500;X-TITLE=Klara-M.Faßbinder-Str. 6:geo:7.0476329,50.7426609
END:VEVENT
BEGIN:VEVENT
DTSTART;TZID=Europe/Berlin:20251118T100000
DTEND;TZID=Europe/Berlin:20251119T170000
DTSTAMP:20260426T012931
CREATED:20250711T064624Z
LAST-MODIFIED:20250718T142750Z
UID:10000393-1763460000-1763571600@www.bonner-kaffeeschule.de
SUMMARY:SCA-Sensory Intermediate
DESCRIPTION:Das Intermediate-Level ist ideal für alle\, die bereits im Kaffeebereich tätig sind und die ihre Sensorik-Kenntnisse entwickeln/vertiefen wollen. Es gliedert sich in drei Bereiche: Wie wir schmecken\, wahrnehmen und interpretieren. Dazu nach der gehören nach der \n– Einführung in die Sinnes-Physiologie des Menschen\n– Wahrnehmungsintensitäten von Geschmackslösungen\n– Aromenidentifizierung\n– das Aufsetzen einer Cupping-Session\n– das Verkosten einer Vielzahl unterschiedlicher Kaffees mit Hilfe vorgegebener Attribute\, um die Wahrnehmung der qualitativen und quantitativen Unterschiede zu systematisieren\,\n– die Kommunikation dieser Unterschiede mit Hilfe von Descriptoren. \nDer Kurs schliesst mit einer ausführlichen (vierteiligen) praktischen und theoretischen Prüfung (25 Frage\, 70% erforderlich). Bei Nichtbestehen kann die Prüfung einmal wiederholt werden. \n\nDie RahmendatenAnmeldung zur PrüfungDie Rahmendaten \nZielgruppe: Kaffeeprofis\, die ihr Wissen und ihre sensorischen Fähigkeiten vertiefen möchten. Die Grundlagen aus dem Sensory Foundation werden vorausgesetzt und nicht separat wiederholt.\nSeminardauer: Zwei Tage – 10-17 Uhr\nTeilnahmegebühr: 749\,-. Darin enthalten sind 243\,95 € brutto Prüfungsgebühr der SCA. Nicht enthalten sind Unterkunft und Verpflegung. CDS Punkte: 10\nBildungsprämie: 50% (bzw. max. 500\,-€) der Workshopkosten können durch einen Bildungsscheck des Landes NRW übernommen werden.\nTeilnehmer: mindestens 2\, max. 6 Personen \nAnmeldung zur Prüfung \nBitte gleichzeitig mit der Buchung eine Teilnahme zur theoretischen Prüfung über die SCA-Website anmelden:\n1. Eröffne  einen Account auf der SCA-Website. “Create an account”.\n2.  Eingeloggt dem Link folgen und anschließend bitte dort gleich für die Prüfung (Request Enrollment) anmelden: scae.com/training-and-education/. \n \nBitte gleichzeitig mit der Buchung eine Teilnahme zur theoretischen Prüfung über die SCA-Website anmelden. \n \nAnmeldung zur Prüfung \nBitte gleichzeitig mit der Buchung eine Teilnahme zur theoretischen Prüfung über die SCA-Website anmelden:\n1. Melde einen Account an.\n2. Login mit dem neuen Account.\n3. Eingeloggt dem Link folgen und anschließend bitte dort gleich für die Prüfung (Request Enrollment) anmelden: specialtycoffee.my.site.com. Die Prüfung ist im Anschluss an den Workshop möglich\, die Anmeldung muss zwingend vor Workshopbeginn geschehen.
URL:https://www.bonner-kaffeeschule.de/event/sca-sensory-intermediate-17/
LOCATION:Bonner Kaffeeschule\, Klara-M.Faßbinder-Str. 6\, Bonn\, Nordrhein-Westfalen\, 53121\, Deutschland
CATEGORIES:SCA-Kurse,Sensory skills
ATTACH;FMTTYPE=image/jpeg:https://www.bonner-kaffeeschule.de/wp-content/uploads/2021/05/Sensory21_2-1.jpg
ORGANIZER;CN="Bonner Kaffeeschule":MAILTO:info@bonner-kaffeeschule.de
GEO:50.7426609;7.0476329
X-APPLE-STRUCTURED-LOCATION;VALUE=URI;X-ADDRESS=Bonner Kaffeeschule Klara-M.Faßbinder-Str. 6 Bonn Nordrhein-Westfalen 53121 Deutschland;X-APPLE-RADIUS=500;X-TITLE=Klara-M.Faßbinder-Str. 6:geo:7.0476329,50.7426609
END:VEVENT
BEGIN:VEVENT
DTSTART;TZID=Europe/Berlin:20251121T150000
DTEND;TZID=Europe/Berlin:20251121T200000
DTSTAMP:20260426T012932
CREATED:20250917T163702Z
LAST-MODIFIED:20250917T163702Z
UID:10000410-1763737200-1763755200@www.bonner-kaffeeschule.de
SUMMARY:Grundlagen der Latte Art
DESCRIPTION:Das Grundlagen-Seminar zur Latte Art richtet sich an jede/n erfahrene/n Barista und führt ein in die Kunst des Figurengießens mit Milchschaum und Espresso. \nVorerfahrungen – etwa die vorherige Teilnahme an einem Baristakurs\, der sichere Umgang mit der Dampflanze und das stubenreine Arbeiten an der Maschine & am Trainingsplatz – sind unbedingt erforderlich\, da wir Espressoextraktion und die Herstellung feinporigen Milchschaums (reproduzierbarer Microfoam) voraussetzen. \nSchulungsaufbau: 1 Std. Auffrischung des bereits gelernten (vor allem: Der perfekte Espresso und Milchaufschäumen) als Basis. Anschließend erkunden wir gemeinsam vier Stunden lang die Grundlagen der Latte Art\, aufgeteilt in Gießen der beiden Grundfiguren Herz und Blatt sowie die Etching-Technik samt der Benutzung von Hilfsmitteln wie Stiften. Hier wie da hilft nur: Praxis\, Praxis\, Praxis! \nSeminardauer: 5 Stunden inkl. Pause\nTeilnahmegebühr: 199\,- Euro pro Person\nMaximale Teilnehmer/innen: 6\, mindestens 4 Teilnehmerinnen und Teilnehmer \nZielgruppe: Siebträgerbesitzer\, Home-Baristi\, Mitarbeiter/innen der Kaffeebranche\, die bereits perfekte espressobasierte Getränke kredenzen und jetzt mit Latte Art ihr Können abrunden wollen.
URL:https://www.bonner-kaffeeschule.de/event/grundlagen-der-latte-art-16/
LOCATION:Bonner Kaffeeschule\, Klara-M.Faßbinder-Str. 6\, Bonn\, Nordrhein-Westfalen\, 53121\, Deutschland
CATEGORIES:Barista skills,Freizeitkurs
ATTACH;FMTTYPE=image/jpeg:https://www.bonner-kaffeeschule.de/wp-content/uploads/2020/03/200206_EIS__IMG8621.jpg
ORGANIZER;CN="Bonner Kaffeeschule":MAILTO:info@bonner-kaffeeschule.de
GEO:50.7426609;7.0476329
X-APPLE-STRUCTURED-LOCATION;VALUE=URI;X-ADDRESS=Bonner Kaffeeschule Klara-M.Faßbinder-Str. 6 Bonn Nordrhein-Westfalen 53121 Deutschland;X-APPLE-RADIUS=500;X-TITLE=Klara-M.Faßbinder-Str. 6:geo:7.0476329,50.7426609
END:VEVENT
BEGIN:VEVENT
DTSTART;TZID=Europe/Berlin:20251123T100000
DTEND;TZID=Europe/Berlin:20251123T170000
DTSTAMP:20260426T012932
CREATED:20250908T202740Z
LAST-MODIFIED:20251117T211859Z
UID:10000402-1763892000-1763917200@www.bonner-kaffeeschule.de
SUMMARY:Barista intensiv
DESCRIPTION:In diesem Barista-Intensiv-Seminar liegt der Schwerpunkt auf einer Kaffeekunde\, die helfen soll\, sich in der Kaffewelt besser zurecht zu finden und natürlich in der Praxis an der Siebträgermaschine. Auch Raum für individuelle Fragen ist eingeplant. \nDas Seminar richtet sich an ambitionierte Kaffeeliebhaber/innen\, Siebträger-Besitzer/innen\, Home-Baristi und führt ein in die Genießerwelt des perfekten Espresso und Cappuccinos. Eignet sich nicht für Mitarbeiter/innen der Gastronomie. Erste Kenntnisse im Umgang mit Siebträgermaschinen sind hilfreich\, aber nicht zwingend erforderlich. \nSchwerpunkte des Barista-Seminars:\n– Von der Pflanze bis zur Tasse – Kleine Kaffeekunde (Sorten/Varietäten\, Anbau\, Ernte\, Verarbeitung\, Röstung)\n– Sensorik und Verkostung verschiedener Sorten und Varietäten\n– Bohne\, Maschine\, Mühle & Mensch – Einflussfaktoren auf einen guten Espresso/Cappuccino\n– praktische Gruppenarbeit: Einstellung der Mühle\n– Zubereitung: Der perfekte Espresso & der perfekte Milchschaum \nUnterschied zum Barista basic: kleinere Gruppe\, mehr Praxis an den Maschinen\, 60 Seiten Handout inkl. \nZeit: 10 – 17 h mit Pause\nKosten: 199 € inkl. neuem 60-Seiten-Handout\, nicht enthalten sind Verpflegung und Übernachtung\nTeilnehmerzahl: max. 8 Teilnehmer/innen\, mind. 4 Teilnehmer/innen
URL:https://www.bonner-kaffeeschule.de/event/barista-intensiv-65/
LOCATION:Bonner Kaffeeschule\, Klara-M.Faßbinder-Str. 6\, Bonn\, Nordrhein-Westfalen\, 53121\, Deutschland
CATEGORIES:Barista skills,Freizeitkurs
ATTACH;FMTTYPE=image/jpeg:https://www.bonner-kaffeeschule.de/wp-content/uploads/2020/03/200206_EIS__IMG8621.jpg
ORGANIZER;CN="Bonner Kaffeeschule":MAILTO:info@bonner-kaffeeschule.de
GEO:50.7426609;7.0476329
X-APPLE-STRUCTURED-LOCATION;VALUE=URI;X-ADDRESS=Bonner Kaffeeschule Klara-M.Faßbinder-Str. 6 Bonn Nordrhein-Westfalen 53121 Deutschland;X-APPLE-RADIUS=500;X-TITLE=Klara-M.Faßbinder-Str. 6:geo:7.0476329,50.7426609
END:VEVENT
END:VCALENDAR