BEGIN:VCALENDAR
VERSION:2.0
PRODID:-//Bonner Kaffeeschule - ECPv6.15.20//NONSGML v1.0//EN
CALSCALE:GREGORIAN
METHOD:PUBLISH
X-ORIGINAL-URL:https://www.bonner-kaffeeschule.de
X-WR-CALDESC:Veranstaltungen für Bonner Kaffeeschule
REFRESH-INTERVAL;VALUE=DURATION:PT1H
X-Robots-Tag:noindex
X-PUBLISHED-TTL:PT1H
BEGIN:VTIMEZONE
TZID:Europe/Berlin
BEGIN:DAYLIGHT
TZOFFSETFROM:+0100
TZOFFSETTO:+0200
TZNAME:CEST
DTSTART:20240331T010000
END:DAYLIGHT
BEGIN:STANDARD
TZOFFSETFROM:+0200
TZOFFSETTO:+0100
TZNAME:CET
DTSTART:20241027T010000
END:STANDARD
BEGIN:DAYLIGHT
TZOFFSETFROM:+0100
TZOFFSETTO:+0200
TZNAME:CEST
DTSTART:20250330T010000
END:DAYLIGHT
BEGIN:STANDARD
TZOFFSETFROM:+0200
TZOFFSETTO:+0100
TZNAME:CET
DTSTART:20251026T010000
END:STANDARD
BEGIN:DAYLIGHT
TZOFFSETFROM:+0100
TZOFFSETTO:+0200
TZNAME:CEST
DTSTART:20260329T010000
END:DAYLIGHT
BEGIN:STANDARD
TZOFFSETFROM:+0200
TZOFFSETTO:+0100
TZNAME:CET
DTSTART:20261025T010000
END:STANDARD
END:VTIMEZONE
BEGIN:VEVENT
DTSTART;TZID=Europe/Berlin:20251104T100000
DTEND;TZID=Europe/Berlin:20251104T173000
DTSTAMP:20260426T011442
CREATED:20250708T170129Z
LAST-MODIFIED:20250718T142512Z
UID:10000391-1762250400-1762277400@www.bonner-kaffeeschule.de
SUMMARY:SCA Brewing Foundation
DESCRIPTION:Brewing Foundation\nDieses Modul zeigt dem Anfänger/der Anfängerin eine Vielzahl von verschiedenen Brühmöglichkeiten\, mit denen man einen perfekten Kaffee bereiten kann. Nach einem kleinen Theorieteil und den sieben wichtigsten Brewing-Grundlagen\, geht es in die Praxis. Sie erhalten die Möglichkeit mit verschiedenen Brühmethoden (V60\, Kalita\, Wave\, French Press\, Chemex\, Moccamaster o.ä.) und Hilfsmitteln ihre Fähigkeiten zu vertiefen. Gleichzeitig werden wir unterschiedliche Kaffeesorten testen\, um den Geschmack und die Sensorik zu schulen. \nDer Kurs bietet die wichtigsten Informationen\, um die Brewing Foundation Zertifizierung zu bestehen: eine kurze praktische und eine schriftlichen Prüfung (15 Fragen\, 60% erforderlich). Mit Bestehen werden 5 Punkte des SCA Kaffee Diploms vergeben. Der Kurs dauert einen Tag. Für dieses Modul sind keine Vorkenntnisse erforderlich. Es wird jedoch empfohlen\, vorher das Modul „Introduction to coffee" zu absolvieren. Leidenschaft für hervorragenden Kaffee ist allerdings unerlässlich! \n\nDie RahmendatenAnmeldung zur Online-PrüfungDie Rahmendaten \n\nZielgruppe: Kaffeeliebhaber\, die ihr Wissen vertiefen möchten.\nSeminardauer: 10-17.30 Uhr\nTeilnahmegebühr: 369\,- € inkl. Prüfungsgebühren und MwSt. Nicht enthalten sind Unterkunft und Verpflegung.\nPrüfungsgebühr der SCA: 119 €\, CDS Punkte: 5.\nBildungsscheck: 50% der Workshopkosten können durch einen Bildungsscheck des Landes NRW übernommen werden.\nTeilnehmer: mindestens 2\, max. 6 Personen \n\nAnmeldung zur Online-Prüfung \nBitte gleichzeitig mit der Buchung eine Teilnahme zur theoretischen Prüfung über die SCA-Website anmelden:\n1. Melde einen Account auf der SCA-Website an. “Create a new account.”\n2. Dort einloggen und eingeloggt dem Link folgen und anschließend bitte dort gleich für die Prüfung (Request Enrollment) anmelden: scae.com/training-and-education/ \n \nBitte gleichzeitig mit der Buchung eine Teilnahme zur theoretischen Prüfung über die SCA-Website anmelden.
URL:https://www.bonner-kaffeeschule.de/event/sca-brewing-foundation-17/
LOCATION:Bonner Kaffeeschule\, Klara-M.Faßbinder-Str. 6\, Bonn\, Nordrhein-Westfalen\, 53121\, Deutschland
CATEGORIES:Brewing,SCA-Kurse
ATTACH;FMTTYPE=image/jpeg:https://www.bonner-kaffeeschule.de/wp-content/uploads/2021/05/Brewing21_2.jpg
ORGANIZER;CN="Bonner Kaffeeschule":MAILTO:info@bonner-kaffeeschule.de
GEO:50.7426609;7.0476329
X-APPLE-STRUCTURED-LOCATION;VALUE=URI;X-ADDRESS=Bonner Kaffeeschule Klara-M.Faßbinder-Str. 6 Bonn Nordrhein-Westfalen 53121 Deutschland;X-APPLE-RADIUS=500;X-TITLE=Klara-M.Faßbinder-Str. 6:geo:7.0476329,50.7426609
END:VEVENT
BEGIN:VEVENT
DTSTART;TZID=Europe/Berlin:20251105T100000
DTEND;TZID=Europe/Berlin:20251106T170000
DTSTAMP:20260426T011442
CREATED:20250708T165823Z
LAST-MODIFIED:20250718T142454Z
UID:10000390-1762336800-1762448400@www.bonner-kaffeeschule.de
SUMMARY:SCA Brewing Intermediate
DESCRIPTION:Im Modul Brewing Intermediate steigen wir tief ein in die Materie von Extraktionstheorie und Brühpraxis: \n\n\nAuswirkungen von Brühmethoden und Filtermedien\,\nEinfluß von Mühlenqualität\, Mahlgrad und unterschiedlicher Partikelgrößen (samt ihrer Analyse) im Mahlgut\nWasser-Temperatur und Wasserqualitäten\nAuswirkungen verschiedener Röststufen\nMessung der Stoffe mit Refraktometer und Steuerung der Extraktion mit dem Brewing Control Chart\n\nAll das hat Einfluß auf die Extraktion und die Qualität des gebrühten Kaffees. Theoretisch und praktisch werden wir unterschiedliche Mahlgrade\, Wasserqualitäten in verschiedenen Zubereitungsmethoden testen und verkosten. Dabei wollen wir objektiv zwischen Brühstärke und Extraktion unterscheiden und das Ganze in ein Brewing-Control-Chart übersetzen\, um dabei die Kaffees immer wieder auch sensorisch zu überprüfen. Hier liegt der Kern aller Zubereitung. \nAm Ende des Kurses haben wir gelernt\, wie man wissenschaftlich Kaffeestärke und Extraktion misst und in ein Extraktions-Diagramm (Brewing-Control-Chart) übersetzt. Die Technik lässt sich auf Filterkaffee und Espresso anwenden. Nach der Analyse können wir Brührezepte mit Hilfe des digitalen Refraktometers entwicklen\, um eine geschmacklich ausgewogene Tasse herzustellen und dies auch reproduzierbar zu machen. \n \nWir empfehlen\, Vorerfahrungen im Brewing und/oder den vorigen Besuch der Kurse Brewing Foundation und Introduction. Der Kurs selbst bietet die wichtigsten Informationen\, um die Brewing Intermediate Zertifizierung zu bestehen: 25 Fragen\, von denen 70% richtig beantwortet sein müssen. Dazu verschiedene praktische Prüfungen rund um das Thema Brewing. Erfolgreiche Absolventen erhalten 10 Punkte für das SCA Kaffee Diplom. Der Kurs dauert zwei Tage. \n  \n\nDie RahmendatenAnmeldung zur Online-PrüfungDie Rahmendaten \nZielgruppe: Kaffeeprofis\, die sich intensiv mit Extraktionssteuerung und deren Bemessung beschäftigen wollen\, Kaffeeliebhaber/innen\, die ihr Wissen vertiefen möchten.\nSeminardauer: Zwei Tage 10-17/17.30 Uhr\nTeilnahmegebühr: 749\,-. Darin enthalten sind 243\,95 € brutto Prüfungsgebühr der SCA. Nicht enthalten sind Unterkunft und Verpflegung. CDS Punkte: 10\nBildungsscheck: 50% der Workshopkosten können durch einen Bildungsscheck des Landes NRW übernommen werden.\nTeilnehmer: mindestens 2\, max. 6 Personen\nVorerfahrung: Der Brewing-Foundation-Kurs ist sehr hilfreich\, das Know-How um die Grundlagen des Brühens und der verschiedenen Brühmethoden wird im Intermediate vorausgesetzt und nicht wiederholt. \nAnmeldung zur Online-Prüfung \nBitte gleichzeitig mit der Buchung eine Teilnahme zur theoretischen Prüfung über die SCA-Website anmelden: \n1. Melde einen Account auf der SCA-Website an. “Create a new account.”\n2. Dort einloggen und eingeloggt dem Link folgen und anschließend bitte dort gleich für die Prüfung (Request Enrollment) anmelden: scae.com/training-and-education/. \n \nBitte gleichzeitig mit der Buchung eine Teilnahme zur theoretischen Prüfung über die SCA-Website anmelden.
URL:https://www.bonner-kaffeeschule.de/event/sca-brewing-intermediate-17/
LOCATION:Bonner Kaffeeschule\, Klara-M.Faßbinder-Str. 6\, Bonn\, Nordrhein-Westfalen\, 53121\, Deutschland
CATEGORIES:Brewing,SCA-Kurse
ATTACH;FMTTYPE=image/jpeg:https://www.bonner-kaffeeschule.de/wp-content/uploads/2021/05/Brewing21_2.jpg
ORGANIZER;CN="Bonner Kaffeeschule":MAILTO:info@bonner-kaffeeschule.de
GEO:50.7426609;7.0476329
X-APPLE-STRUCTURED-LOCATION;VALUE=URI;X-ADDRESS=Bonner Kaffeeschule Klara-M.Faßbinder-Str. 6 Bonn Nordrhein-Westfalen 53121 Deutschland;X-APPLE-RADIUS=500;X-TITLE=Klara-M.Faßbinder-Str. 6:geo:7.0476329,50.7426609
END:VEVENT
BEGIN:VEVENT
DTSTART;TZID=Europe/Berlin:20251108T110000
DTEND;TZID=Europe/Berlin:20251108T140000
DTSTAMP:20260426T011442
CREATED:20250708T130427Z
LAST-MODIFIED:20260401T060123Z
UID:10000389-1762599600-1762610400@www.bonner-kaffeeschule.de
SUMMARY:Werksverkauf: Bonner Kaffeebrennerei
DESCRIPTION:Handwerklich geröstet\, von ausgesuchten Plantagen aus Brasilien\, Guatemala\, Kolumbien\, Äthiopien\, Ruanda und Indien. \nIm Verkostungswettbewerb der deutschen Röstergilde 2025 mit Gold ausgezeichnet: Under Pressure #2 – als Espresso oder Café Crème mit einer Aromatik von roten Früchten und karamelligen Noten. Mit Milch kann’s süchtig machen…. Bombtrack – ein nussigschokoladiger Blend für Siebträger uns Vollautomaten und ein besonderes Special: Die saisonalen Kaffees Changes #1 bis #4 – als Filterkaffee sind zurück für kurze Zeit. Ein wunderbarer Single-Origin Filterkaffee als Mitbringsel vom Fieldtrip nach Ruanda. \nMehr Infos zu den Kaffees unter: bonner-kaffeebrennerei.de \nDer eine oder andere Filterkaffee steht zum Probieren bereit… Drum erwartet bitte nicht die Geschwindigkeit wie an der Discounter-Kasse ;-)
URL:https://www.bonner-kaffeeschule.de/event/werksevrkauf-bonner-kaffeebrennerei/2025-11-08/
LOCATION:Bonner Kaffeeschule\, Klara-M.Faßbinder-Str. 6\, Bonn\, Nordrhein-Westfalen\, 53121\, Deutschland
CATEGORIES:Roasting
ATTACH;FMTTYPE=image/jpeg:https://www.bonner-kaffeeschule.de/wp-content/uploads/2021/05/BonnerKaffeebrennerei_2.jpg
ORGANIZER;CN="Bonner Kaffeeschule":MAILTO:info@bonner-kaffeeschule.de
GEO:50.7426609;7.0476329
X-APPLE-STRUCTURED-LOCATION;VALUE=URI;X-ADDRESS=Bonner Kaffeeschule Klara-M.Faßbinder-Str. 6 Bonn Nordrhein-Westfalen 53121 Deutschland;X-APPLE-RADIUS=500;X-TITLE=Klara-M.Faßbinder-Str. 6:geo:7.0476329,50.7426609
END:VEVENT
END:VCALENDAR