BEGIN:VCALENDAR
VERSION:2.0
PRODID:-//Bonner Kaffeeschule - ECPv6.15.20//NONSGML v1.0//EN
CALSCALE:GREGORIAN
METHOD:PUBLISH
X-WR-CALNAME:Bonner Kaffeeschule
X-ORIGINAL-URL:https://www.bonner-kaffeeschule.de
X-WR-CALDESC:Veranstaltungen für Bonner Kaffeeschule
REFRESH-INTERVAL;VALUE=DURATION:PT1H
X-Robots-Tag:noindex
X-PUBLISHED-TTL:PT1H
BEGIN:VTIMEZONE
TZID:Europe/Berlin
BEGIN:DAYLIGHT
TZOFFSETFROM:+0100
TZOFFSETTO:+0200
TZNAME:CEST
DTSTART:20240331T010000
END:DAYLIGHT
BEGIN:STANDARD
TZOFFSETFROM:+0200
TZOFFSETTO:+0100
TZNAME:CET
DTSTART:20241027T010000
END:STANDARD
BEGIN:DAYLIGHT
TZOFFSETFROM:+0100
TZOFFSETTO:+0200
TZNAME:CEST
DTSTART:20250330T010000
END:DAYLIGHT
BEGIN:STANDARD
TZOFFSETFROM:+0200
TZOFFSETTO:+0100
TZNAME:CET
DTSTART:20251026T010000
END:STANDARD
BEGIN:DAYLIGHT
TZOFFSETFROM:+0100
TZOFFSETTO:+0200
TZNAME:CEST
DTSTART:20260329T010000
END:DAYLIGHT
BEGIN:STANDARD
TZOFFSETFROM:+0200
TZOFFSETTO:+0100
TZNAME:CET
DTSTART:20261025T010000
END:STANDARD
END:VTIMEZONE
BEGIN:VEVENT
DTSTART;TZID=Europe/Berlin:20251027T100000
DTEND;TZID=Europe/Berlin:20251031T170000
DTSTAMP:20260426T022939
CREATED:20250707T061717Z
LAST-MODIFIED:20250708T133026Z
UID:10000384-1761559200-1761930000@www.bonner-kaffeeschule.de
SUMMARY:SCA-Barista Ausbildungswoche
DESCRIPTION:Die Speciality Coffee Association (SCA) ist die weltweite Instanz für Spezialitätenkaffee. Sie bietet mit ihren einheitlichem Ausbildungs- und Zertifizierungsprogramm gewissermaßen ein Zentralabitur für Baristi. In jedem Modul gibt es drei Level der Zertifizierung: Foundation (Basis)\, Intermediate (Fortgeschritten) und Professional (Experte). In einem fünftägigen Workshop (inkl. der Prüfungen) wird eine umfangreiche theoretische und praktische Grundlage zur Absolvierung der Prüfungen "Introduction into coffee"\, "SCA Barista Level Foundation" und "SCA Barista Level Intermediate" geschaffen. \nDie Ausbildungswoche ist für all die geeignet\, die bereits im Kaffee- oder Barsektor arbeiten und über grundlegende Kenntnisse verfügen. In diesem Kurs zum SCA-Barista werden kompakt drei Module des SCA-Ausbildungssystems umgesetzt und die fortgeschrittenen Fähigkeiten des Barista auf eine solide Basis gebracht und ausgebaut. \nDie Module des SCA-Ausbildungssystems "Introduction"\, Barista Foundation und Barista Intermediate\n… werden innerhalb der fünf Tage absolviert. \n\nDie Workshopthemen:Die RahmendatenAnmeldung zur Online-PrüfungDie Workshopthemen: \n– Einführung in Anbau\, Aufbereitung und Verarbeitung der Kaffeepflanze\n– Grundlagen der Sensorik und Cupping/Verkostung verschiedener Kaffees im Laufe der Ausbildungswoche\n– Extraktionstheorie & typische Fehler bei der Extraktion\n– Einstellen von Maschine und Mühle\, Reinigung\n– Grundlagen der Espresso-Sensorik\n– Sensorische Bestimmung von Brühphasen und Espresso-Rezepturen\n– Barista-Menü: Qualität\, Zeit & Sauberkeit bei der Zubereitung\n– Arbeitsplatzorganisation\n– Milchschaumtechnik nach SCA-Standards\n– Grundlagen der Latte Art\n– Training an der Espressomaschine / täglich\, Prüfungstrainings \nDer Kurs dauert fünf Tage\, die praktischen Prüfungen werden im Rahmen des Workshops abgenommen. Die theoretische Prüfungen erfolgen als Onlineprüfungen außerhalb des Workshops. \nDie Rahmendaten \nZielgruppe: Alle Mitarbeiter und Profis der Kaffeebranche\, Existenzgründer und natürlich alle ambitionierten Home-Baristi und Privatpersonen\, die sich für Kaffee interessieren und ihr Wissen vertiefen möchten.\nSeminardauer: Fünf Tage 10:00 – ca. 17:00 (inkl. Mittagspause)\, am letzten Tag bis ca. 14 Uhr\nGesamtpreis: 1499\,- (inkl. MwSt. und allen genannten SCA-Zertifizierungen)\nPrüfungsgebühr der SCA: Introduction to coffee – 119 € brutto\, CDS Punkte: 10\nBarista Foundation – 119 € brutto\, CDS Punkte: 5\nBarista Intermediate – 243\,95 € brutto Prüfungsgebühr \, CDS Punkte: 10\nmögliche Punkte im Coffee Skills Program: 25\nBildungsgutschein NRW: 500\,- € der Workshopkosten können durch einen Bildungsscheck übernommen werden.\nTeilnehmer: mindestens 3\, max. 6 Personen \nAnmeldung zur Online-Prüfung \nBitte gleichzeitig eine Teilnahme über die SCA-Website anmelden\, da hier im Anschluß an den Workshop die theoretischen Prüfungen abgehalten werden: \n1. Eröffne  einen Account auf der SCA-Website. “Create an account”.\n2. Eingeloggt den Links folgen und anschließend bitte dort gleich für jede Prüfung (Request Enrollment) anmelden: \nIntroduction – scae.com/training-and-education/\nBarista Foundation – scae.com/training-and-education/\nBarista Intermediate – scae.com/training-and-education/ \n \nBitte gleichzeitig mit der Buchung eine Teilnahme zu den theoretischen Prüfungen über die SCA-Website anmelden. \n \nAnmeldung zur Prüfung \nBitte gleichzeitig mit der Buchung eine Teilnahme zur theoretischen Prüfung über die SCA-Website anmelden: \n1. Melde einen
URL:https://www.bonner-kaffeeschule.de/event/sca-barista-ausbildungswoche-33/
LOCATION:Bonner Kaffeeschule\, Klara-M.Faßbinder-Str. 6\, Bonn\, Nordrhein-Westfalen\, 53121\, Deutschland
CATEGORIES:Barista skills,SCA-Kurse
ATTACH;FMTTYPE=image/jpeg:https://www.bonner-kaffeeschule.de/wp-content/uploads/2021/05/Barista21_2.jpg
ORGANIZER;CN="Bonner Kaffeeschule":MAILTO:info@bonner-kaffeeschule.de
GEO:50.7426609;7.0476329
X-APPLE-STRUCTURED-LOCATION;VALUE=URI;X-ADDRESS=Bonner Kaffeeschule Klara-M.Faßbinder-Str. 6 Bonn Nordrhein-Westfalen 53121 Deutschland;X-APPLE-RADIUS=500;X-TITLE=Klara-M.Faßbinder-Str. 6:geo:7.0476329,50.7426609
END:VEVENT
BEGIN:VEVENT
DTSTART;TZID=Europe/Berlin:20251102T100000
DTEND;TZID=Europe/Berlin:20251102T170000
DTSTAMP:20260426T022939
CREATED:20250824T082342Z
LAST-MODIFIED:20251017T160959Z
UID:10000400-1762077600-1762102800@www.bonner-kaffeeschule.de
SUMMARY:Barista intensiv - ausgebucht
DESCRIPTION:In diesem Barista-Intensiv-Seminar liegt der Schwerpunkt auf einer Kaffeekunde\, die helfen soll\, sich in der Kaffewelt besser zurecht zu finden und natürlich in der Praxis an der Siebträgermaschine. Auch Raum für individuelle Fragen ist eingeplant. \nDas Seminar richtet sich an ambitionierte Kaffeeliebhaber/innen\, Siebträger-Besitzer/innen\, Home-Baristi und führt ein in die Genießerwelt des perfekten Espresso und Cappuccinos. Eignet sich nicht für Mitarbeiter/innen der Gastronomie. Erste Kenntnisse im Umgang mit Siebträgermaschinen sind hilfreich\, aber nicht zwingend erforderlich. \nSchwerpunkte des Barista-Seminars:\n– Von der Pflanze bis zur Tasse – Kleine Kaffeekunde (Sorten/Varietäten\, Anbau\, Ernte\, Verarbeitung\, Röstung)\n– Sensorik und Verkostung verschiedener Sorten und Varietäten\n– Bohne\, Maschine\, Mühle & Mensch – Einflussfaktoren auf einen guten Espresso/Cappuccino\n– praktische Gruppenarbeit: Einstellung der Mühle\n– Zubereitung: Der perfekte Espresso & der perfekte Milchschaum \nUnterschied zum Barista basic: kleinere Gruppe\, mehr Praxis an den Maschinen\, 60 Seiten Handout inkl. \nZeit: 10 – 17 h mit Pause\nKosten: 199 € inkl. neuem 60-Seiten-Handout\, nicht enthalten sind Verpflegung und Übernachtung\nTeilnehmerzahl: max. 8 Teilnehmer/innen\, mind. 4 Teilnehmer/innen
URL:https://www.bonner-kaffeeschule.de/event/barista-intensiv-64/
LOCATION:Bonner Kaffeeschule\, Klara-M.Faßbinder-Str. 6\, Bonn\, Nordrhein-Westfalen\, 53121\, Deutschland
CATEGORIES:Barista skills,Freizeitkurs
ATTACH;FMTTYPE=image/jpeg:https://www.bonner-kaffeeschule.de/wp-content/uploads/2020/03/200206_EIS__IMG8621.jpg
ORGANIZER;CN="Bonner Kaffeeschule":MAILTO:info@bonner-kaffeeschule.de
GEO:50.7426609;7.0476329
X-APPLE-STRUCTURED-LOCATION;VALUE=URI;X-ADDRESS=Bonner Kaffeeschule Klara-M.Faßbinder-Str. 6 Bonn Nordrhein-Westfalen 53121 Deutschland;X-APPLE-RADIUS=500;X-TITLE=Klara-M.Faßbinder-Str. 6:geo:7.0476329,50.7426609
END:VEVENT
END:VCALENDAR