BEGIN:VCALENDAR
VERSION:2.0
PRODID:-//Bonner Kaffeeschule - ECPv6.15.20//NONSGML v1.0//EN
CALSCALE:GREGORIAN
METHOD:PUBLISH
X-ORIGINAL-URL:https://www.bonner-kaffeeschule.de
X-WR-CALDESC:Veranstaltungen für Bonner Kaffeeschule
REFRESH-INTERVAL;VALUE=DURATION:PT1H
X-Robots-Tag:noindex
X-PUBLISHED-TTL:PT1H
BEGIN:VTIMEZONE
TZID:Europe/Berlin
BEGIN:DAYLIGHT
TZOFFSETFROM:+0100
TZOFFSETTO:+0200
TZNAME:CEST
DTSTART:20240331T010000
END:DAYLIGHT
BEGIN:STANDARD
TZOFFSETFROM:+0200
TZOFFSETTO:+0100
TZNAME:CET
DTSTART:20241027T010000
END:STANDARD
BEGIN:DAYLIGHT
TZOFFSETFROM:+0100
TZOFFSETTO:+0200
TZNAME:CEST
DTSTART:20250330T010000
END:DAYLIGHT
BEGIN:STANDARD
TZOFFSETFROM:+0200
TZOFFSETTO:+0100
TZNAME:CET
DTSTART:20251026T010000
END:STANDARD
BEGIN:DAYLIGHT
TZOFFSETFROM:+0100
TZOFFSETTO:+0200
TZNAME:CEST
DTSTART:20260329T010000
END:DAYLIGHT
BEGIN:STANDARD
TZOFFSETFROM:+0200
TZOFFSETTO:+0100
TZNAME:CET
DTSTART:20261025T010000
END:STANDARD
END:VTIMEZONE
BEGIN:VEVENT
DTSTART;TZID=Europe/Berlin:20250929T100000
DTEND;TZID=Europe/Berlin:20251002T170000
DTSTAMP:20260426T011401
CREATED:20250329T081229Z
LAST-MODIFIED:20250823T114010Z
UID:10000369-1759140000-1759424400@www.bonner-kaffeeschule.de
SUMMARY:SCA Roasting - ausgebucht
DESCRIPTION:Roasting Foundation und Roasting Intermediate aus dem Coffee Skills Program der SCA werden an drei Tagen praktisch umgesetzt und am vierten Tag geprüft. Fortgeschrittene Sensory skills (Sensory Intermediate oder vergleichbare Erfahrung im Cupping) sind dringend empfohlen\, um den Workshop bestehen zu können ;-) \nDie Kosten betragen 1599\,- für vier Tage\, inkl. 19% MwSt. und inkl. aller SCA-Gebühren für Roasting Foundation und Intermediate. Der Röstkurs ist auf vier Teilnehmer/innen – zwei Personen pro Röster – beschränkt. \n\nDie Workshopthemen:Die RahmendatenAnmeldung zur Online-PrüfungDie Workshopthemen: \nRoasting Foundation\nDer Foundation-Kurs vermittelt den Lernenden ein Verständnis für den Röstprozess\, einschließlich der physikalischen Veränderungen\, die während des Prozesses stattfinden. Auch die Frage\, wie man sensorische Aspekte des Kaffees durch helles oder dunkles Rösten kontrolliert\, wird praktisch beantwortet. Darüber hinaus erhalten die Lernenden ein Verständnis für den Grundaufbau der Röstmaschine sowie für die allgemeine Wartung und den Brandschutz. Praktische Lernziele und Aktivitäten bereiten darauf vor\, drei verschiedene Röstungen umzusetzen und relevante Daten und Beobachtungen mithilfe eines geeigneten Röstprotokolls aufzuzeichnen. In einer schriftlichen Prüfung werden die theoretischen Kenntnisse anhand der Lernziele des Grundkurses geprüft. \nRoasting Intermediate\nDer Intermediate-Kurs baut auf den Einführungskonzepten des Foundation-Kurses auf. Es ist ideal für alle\, die sich mit dem Rösten auskennen und ein tieferes Verständnis des Röstprofils\, der Beziehung des Profils zur Farbe\, der Beziehung zwischen Röstprofil und sensorischem Ausdruck sowie der Auswirkung der Entwicklungszeit erlangen möchten. Die Lernenden werden die physikalischen und chemischen Veränderungen sowie die grundlegende Thermodynamik und Wärmeübertragung\, die während des Röstens auftreten\, weiter erkunden. Anschließend erfolgt eine Einführung in die Probenröstung sowie ein Überblick über Sicherheits- und Wartungsprotokolle in der Röstanlage. In einer schriftlichen Prüfung werden die fortgeschrittenen Kurskenntnisse geprüft. Die praktischen Prüfungen bewerten die Fähigkeit des/r Lernenden\, richtig zu rösten und den Kaffee anhand einer Referenz zu reproduzieren. Der Umgang mit dem Röstprotokoll ist dabei genauso wichtig\, wie die sensorischen Unterscheidungen verschiedener Röstprofile in den Triangelprüfungen. Dichtemessung\, Farbwerte\, Wassergehalt\, Gewicht u.a. Messparameter wie Temperaturänderungen der Bohne und Rate of Rise werden als wichtige Werkzeuge des Röstens eingeführt. Typische Röstfehler sensorisch zu bestimmen ist wiederum ein Bestandteil des Kurses: Erst die Korellation zwischen “objektivem” Messwert und sensorischen Werten bringt uns ein Verständnis des Rösthandwerks. \nDer Kurs dauert vier Tage\, die praktischen Prüfungen werden im Rahmen des Workshops abgenommen. Die theoretische Prüfungen erfolgen als Onlineprüfungen außerhalb des Workshops. \nDie Rahmendaten \nZielgruppe: Alle Mitarbeiter und Profis der Kaffeebranche\, Existenzgründer/innen und natürlich alle ambitionierten Heim-Röster/innen\nSeminardauer: Vier Tage 10:00 – ca. 17:00 (inkl. Mittagspause)\, am letzten Tag bis ca. 13 Uhr\nGesamtpreis: 1599\,- (inkl. MwSt. und allen genannten SCA-Zertifizierungen)\nPrüfungsgebühr der SCA:\nRoasting Foundation – 119 € brutto\, CDS Punkte: 5\nRoasting Intermediate – 243\,95 € brutto Prüfungsgebühr \, CDS Punkte: 10\nmögliche Punkte im Coffee Skills Program: 15\nBildungsgutschein NRW: 500\,- € der Workshopkosten können durch einen Bildungsscheck übernommen werden.\nTeilnehmer/innen: mindestens 2\, max. 4 Personen – je zwei Personen pro 1kg-Röster \nAnmeldung zur Online-Prüfung \nBitte gleichzeitig eine Teilnahme über die SCA-Website anmelden\, da hier im Anschluß an den Workshop die theoretischen Prüfungen abgehalten werden:\n1. Eröffne  einen Account auf der SCA-Website. “Create an account”.\n2. Eingeloggt den Links folgen und anschließend bitte dort gleich für jede Prüfung (Request Enrollment) anmelden: \nRoasting Foundation – scae.com/training-and-education/\nRoasting Intermediate – scae.com/training-and-education/ \n \nDa Rösten und Verkosten nur mit einem zeitlichen Abstand von mindestens 12 Stunden sinnvoll ist\, werden Foundation und Intermediate Roasting ausschließlich zusammenhängend buchbar angeboten. Mit beiden Prüfungen werden 15 Punkte im CSP erworben. \n \nBitte gleichzeitig mit der Buchung eine Teilnahme zur theoretischen Prüfung über die SCA-Website anmelden! \nAnmeldung zur Prüfung \nBitte gleichzeitig mit der Buchung eine Teilnahme zur theoretischen Prüfung über die SCA-Website anmelden:\n1. Melde einen Account an.\n2. Login mit dem neuen Account.\n3. Eingeloggt den Links folgen und anschließend bitte dort gleich für jede Prüfung (Request Enrollment) anmelden: \nRoasting Foundation – scae.com/training-and-education/\nRoasting Intermediate – scae.com/training-and-education/ Die Prüfung ist im Anschluss an den Workshop möglich\, die Anmeldung muss zwingend vor Workshopbeginn geschehen.
URL:https://www.bonner-kaffeeschule.de/event/sca-roasting-5/
LOCATION:Bonner Kaffeeschule\, Klara-M.Faßbinder-Str. 6\, Bonn\, Nordrhein-Westfalen\, 53121\, Deutschland
CATEGORIES:Roasting,SCA-Kurse
ATTACH;FMTTYPE=image/jpeg:https://www.bonner-kaffeeschule.de/wp-content/uploads/2023/10/roasting_SCA.1.jpg
ORGANIZER;CN="Bonner Kaffeeschule":MAILTO:info@bonner-kaffeeschule.de
GEO:50.7426609;7.0476329
X-APPLE-STRUCTURED-LOCATION;VALUE=URI;X-ADDRESS=Bonner Kaffeeschule Klara-M.Faßbinder-Str. 6 Bonn Nordrhein-Westfalen 53121 Deutschland;X-APPLE-RADIUS=500;X-TITLE=Klara-M.Faßbinder-Str. 6:geo:7.0476329,50.7426609
END:VEVENT
BEGIN:VEVENT
DTSTART;TZID=Europe/Berlin:20251004T110000
DTEND;TZID=Europe/Berlin:20251004T140000
DTSTAMP:20260426T011401
CREATED:20250708T130427Z
LAST-MODIFIED:20260401T060123Z
UID:10000388-1759575600-1759586400@www.bonner-kaffeeschule.de
SUMMARY:Werksverkauf: Bonner Kaffeebrennerei
DESCRIPTION:Handwerklich geröstet\, von ausgesuchten Plantagen aus Brasilien\, Guatemala\, Kolumbien\, Äthiopien\, Ruanda und Indien. \nIm Verkostungswettbewerb der deutschen Röstergilde 2025 mit Gold ausgezeichnet: Under Pressure #2 – als Espresso oder Café Crème mit einer Aromatik von roten Früchten und karamelligen Noten. Mit Milch kann’s süchtig machen…. Bombtrack – ein nussigschokoladiger Blend für Siebträger uns Vollautomaten und ein besonderes Special: Die saisonalen Kaffees Changes #1 bis #4 – als Filterkaffee sind zurück für kurze Zeit. Ein wunderbarer Single-Origin Filterkaffee als Mitbringsel vom Fieldtrip nach Ruanda. \nMehr Infos zu den Kaffees unter: bonner-kaffeebrennerei.de \nDer eine oder andere Filterkaffee steht zum Probieren bereit… Drum erwartet bitte nicht die Geschwindigkeit wie an der Discounter-Kasse ;-)
URL:https://www.bonner-kaffeeschule.de/event/werksevrkauf-bonner-kaffeebrennerei/2025-10-04/
LOCATION:Bonner Kaffeeschule\, Klara-M.Faßbinder-Str. 6\, Bonn\, Nordrhein-Westfalen\, 53121\, Deutschland
CATEGORIES:Roasting
ATTACH;FMTTYPE=image/jpeg:https://www.bonner-kaffeeschule.de/wp-content/uploads/2021/05/BonnerKaffeebrennerei_2.jpg
ORGANIZER;CN="Bonner Kaffeeschule":MAILTO:info@bonner-kaffeeschule.de
GEO:50.7426609;7.0476329
X-APPLE-STRUCTURED-LOCATION;VALUE=URI;X-ADDRESS=Bonner Kaffeeschule Klara-M.Faßbinder-Str. 6 Bonn Nordrhein-Westfalen 53121 Deutschland;X-APPLE-RADIUS=500;X-TITLE=Klara-M.Faßbinder-Str. 6:geo:7.0476329,50.7426609
END:VEVENT
END:VCALENDAR