BEGIN:VCALENDAR
VERSION:2.0
PRODID:-//Bonner Kaffeeschule - ECPv6.15.20//NONSGML v1.0//EN
CALSCALE:GREGORIAN
METHOD:PUBLISH
X-ORIGINAL-URL:https://www.bonner-kaffeeschule.de
X-WR-CALDESC:Veranstaltungen für Bonner Kaffeeschule
REFRESH-INTERVAL;VALUE=DURATION:PT1H
X-Robots-Tag:noindex
X-PUBLISHED-TTL:PT1H
BEGIN:VTIMEZONE
TZID:Europe/Berlin
BEGIN:DAYLIGHT
TZOFFSETFROM:+0100
TZOFFSETTO:+0200
TZNAME:CEST
DTSTART:20240331T010000
END:DAYLIGHT
BEGIN:STANDARD
TZOFFSETFROM:+0200
TZOFFSETTO:+0100
TZNAME:CET
DTSTART:20241027T010000
END:STANDARD
BEGIN:DAYLIGHT
TZOFFSETFROM:+0100
TZOFFSETTO:+0200
TZNAME:CEST
DTSTART:20250330T010000
END:DAYLIGHT
BEGIN:STANDARD
TZOFFSETFROM:+0200
TZOFFSETTO:+0100
TZNAME:CET
DTSTART:20251026T010000
END:STANDARD
BEGIN:DAYLIGHT
TZOFFSETFROM:+0100
TZOFFSETTO:+0200
TZNAME:CEST
DTSTART:20260329T010000
END:DAYLIGHT
BEGIN:STANDARD
TZOFFSETFROM:+0200
TZOFFSETTO:+0100
TZNAME:CET
DTSTART:20261025T010000
END:STANDARD
END:VTIMEZONE
BEGIN:VEVENT
DTSTART;TZID=Europe/Berlin:20250902T100000
DTEND;TZID=Europe/Berlin:20250904T170000
DTSTAMP:20260426T023054
CREATED:20250314T162009Z
LAST-MODIFIED:20250828T172847Z
UID:10000364-1756807200-1757005200@www.bonner-kaffeeschule.de
SUMMARY:SCA Barista Professional - ausgebucht
DESCRIPTION:Das große Finale im Ausbildungs- und Zertifizierungsprogramm der Barista Module\, die mit Foundation und Intermediate starten. Der Kurs „Barista Skills Professional" soll fortgeschrittene Fähigkeiten und detailliertes Wissen über die Wissenschaft hinter den Prozessen testen\, die ein/e professionelle/r Barista anwendet (z.B. ein Barista mit 12 Monaten oder mehr Berufserfahrung). Erfolgreiche Kandidaten/innen haben die fortgeschrittenen Fähigkeiten\, die in der Regel von einem/r Head-Barista erwartet werden\, vertieft und bewiesen. Dabei ist wichtig\, dass Teilnehmer/innen bereits fortgeschrittene Kenntnisse der deskriptiven Sensorik mitbringen und auf  Espresso-Rezepturen anwenden können. Ziel ist\, ein detailliertes Verständnis der Getränkezutaten und der verfügbaren Techniken zur Maximierung der Getränke-Qualität zu erlangen. Zu verstehen\, wie man die Fähigkeiten anderer zur Herstellung von Qualitätsgetränken steuert\, die Entwicklung von Brührezepten und einer systematischen Methode zur Strukturierung von Getränkekarten. Jede/r Teilnehmer/in soll schließlich in der Lage sein\, den höchsten Standard der Latte Art und der Milchaufschäumtechniken konsequent anzuwenden. In einer schriftlichen Prüfung werden die professionellen Kurskenntnisse geprüft\, während in einer praktischen Prüfung die oben beschriebenen Fähigkeiten auf der Grundlage verschiedener während des Kurses durchgeführter Arbeitstätigkeiten getestet werden. \nCredits für das SCA Coffee Diploma System: 25  \n\nDie Workshopthemen:Die RahmendatenDie Workshopthemen: \n– Kaffee-Sensorik / Triangulation (fortgeschrittene Kenntnisse vorausgesetzt)\n– Design Brührezept mit Voraussagen von Varietät\, Anbauhöhe\, Aufbereitung\, Röstgrad etc. in ihrer Auswirkung auf das Brührezept\n– Bemessen der Stärke und berechnen der Extraktionsrate zur Erstellung eines Brührezepts (Kentnnisse im Umgang mit Refraktometer vorausgesetzt)\n– Geschmackliche Optimierung eines Brührezepts mit der optimalen Balance von Stärke und Extraktion samt der sensorischen Beschreibung\n– Latte Art (fortgeschrittene Kenntnisse vorausgesetzt)\n– Wasserchemie\n– Tamping und Leveln\n– Einfache finanzielle Kalkulationen \nDie Rahmendaten \nZielgruppe: Alle Mitarbeiter*innen und Profis der Kaffeebranche\, Existenzgründer. Der/die ideale Kandidat/in hat mindestens 12 Monate lang als Barista gearbeitet\, in einer Position mit bestimmten leitenden Aufgaben.\nSeminardauer: Drei Tage 10.00 – 17.00 Uhr\nVorerfahrung: Dieses Prüfungslevel ist für alle geeignet\, die in dem Sektor arbeiten und über tiefe Kenntnisse verfügen. Die Intermediate-Zertifizierung ist Voraussetzung\, ebenso fortgeschrittene Kenntnisse im Bereich Latte Art\, gute Sensory skills und der souveräne Umgang mit dem Refraktometer und dem Thema Espresso-Rezepturen. Sehr empfohlen sind die Formate Sensory skills Intermediate und Brewing Intermediate als Vorbereitung auf den Barista professional.\nTeilnahmegebühr: 1099\,-. Darin enthalten ist die der SCA. Nicht enthalten sind Unterkunft und Verpflegung.\nBildungsscheck: 50% bzw. 500\,- der Workshopkosten können durch einen Bildungsscheck NRW übernommen werden.\nTeilnehmer/innen: mindestens 3\, max. 6 Personen \n \nBitte gleichzeitig mit der Buchung eine Teilnahme zur theoretischen Prüfung über die SCA-Website anmelden! \nAnmeldung zur Prüfung \nBitte gleichzeitig mit der Buchung eine Teilnahme zur theoretischen Prüfung über die SCA-Website anmelden:\n1. Melde einen Account an.\n2. Login mit dem neuen Account.\n3. Eingeloggt dem Link folgen und anschließend bitte dort gleich für die Prüfung (Request Enrollment) anmelden:\nspecialtycoffee.my.site.com. Die Prüfung ist im Anschluss an den Workshop möglich\, die Anmeldung muss zwingend vor Workshopbeginn geschehen.
URL:https://www.bonner-kaffeeschule.de/event/sca-barista-professional-6/
LOCATION:Bonner Kaffeeschule\, Klara-M.Faßbinder-Str. 6\, Bonn\, Nordrhein-Westfalen\, 53121\, Deutschland
CATEGORIES:Barista skills,SCA-Kurse
ATTACH;FMTTYPE=image/jpeg:https://www.bonner-kaffeeschule.de/wp-content/uploads/2021/05/Barista21_2.jpg
ORGANIZER;CN="Bonner Kaffeeschule":MAILTO:info@bonner-kaffeeschule.de
GEO:50.7426609;7.0476329
X-APPLE-STRUCTURED-LOCATION;VALUE=URI;X-ADDRESS=Bonner Kaffeeschule Klara-M.Faßbinder-Str. 6 Bonn Nordrhein-Westfalen 53121 Deutschland;X-APPLE-RADIUS=500;X-TITLE=Klara-M.Faßbinder-Str. 6:geo:7.0476329,50.7426609
END:VEVENT
BEGIN:VEVENT
DTSTART;TZID=Europe/Berlin:20250906T110000
DTEND;TZID=Europe/Berlin:20250906T140000
DTSTAMP:20260426T023054
CREATED:20250708T130427Z
LAST-MODIFIED:20260401T060123Z
UID:10000387-1757156400-1757167200@www.bonner-kaffeeschule.de
SUMMARY:Werksverkauf: Bonner Kaffeebrennerei
DESCRIPTION:Handwerklich geröstet\, von ausgesuchten Plantagen aus Brasilien\, Guatemala\, Kolumbien\, Äthiopien\, Ruanda und Indien. \nIm Verkostungswettbewerb der deutschen Röstergilde 2025 mit Gold ausgezeichnet: Under Pressure #2 – als Espresso oder Café Crème mit einer Aromatik von roten Früchten und karamelligen Noten. Mit Milch kann’s süchtig machen…. Bombtrack – ein nussigschokoladiger Blend für Siebträger uns Vollautomaten und ein besonderes Special: Die saisonalen Kaffees Changes #1 bis #4 – als Filterkaffee sind zurück für kurze Zeit. Ein wunderbarer Single-Origin Filterkaffee als Mitbringsel vom Fieldtrip nach Ruanda. \nMehr Infos zu den Kaffees unter: bonner-kaffeebrennerei.de \nDer eine oder andere Filterkaffee steht zum Probieren bereit… Drum erwartet bitte nicht die Geschwindigkeit wie an der Discounter-Kasse ;-)
URL:https://www.bonner-kaffeeschule.de/event/werksevrkauf-bonner-kaffeebrennerei/2025-09-06/
LOCATION:Bonner Kaffeeschule\, Klara-M.Faßbinder-Str. 6\, Bonn\, Nordrhein-Westfalen\, 53121\, Deutschland
CATEGORIES:Roasting
ATTACH;FMTTYPE=image/jpeg:https://www.bonner-kaffeeschule.de/wp-content/uploads/2021/05/BonnerKaffeebrennerei_2.jpg
ORGANIZER;CN="Bonner Kaffeeschule":MAILTO:info@bonner-kaffeeschule.de
GEO:50.7426609;7.0476329
X-APPLE-STRUCTURED-LOCATION;VALUE=URI;X-ADDRESS=Bonner Kaffeeschule Klara-M.Faßbinder-Str. 6 Bonn Nordrhein-Westfalen 53121 Deutschland;X-APPLE-RADIUS=500;X-TITLE=Klara-M.Faßbinder-Str. 6:geo:7.0476329,50.7426609
END:VEVENT
BEGIN:VEVENT
DTSTART;TZID=Europe/Berlin:20250907T100000
DTEND;TZID=Europe/Berlin:20250907T170000
DTSTAMP:20260426T023054
CREATED:20250630T175738Z
LAST-MODIFIED:20250630T175738Z
UID:10000381-1757239200-1757264400@www.bonner-kaffeeschule.de
SUMMARY:Barista intensiv
DESCRIPTION:In diesem Barista-Intensiv-Seminar liegt der Schwerpunkt auf einer Kaffeekunde\, die helfen soll\, sich in der Kaffewelt besser zurecht zu finden und natürlich in der Praxis an der Siebträgermaschine. Auch Raum für individuelle Fragen ist eingeplant. \nDas Seminar richtet sich an ambitionierte Kaffeeliebhaber/innen\, Siebträger-Besitzer/innen\, Home-Baristi und führt ein in die Genießerwelt des perfekten Espresso und Cappuccinos. Eignet sich nicht für Mitarbeiter/innen der Gastronomie. Erste Kenntnisse im Umgang mit Siebträgermaschinen sind hilfreich\, aber nicht zwingend erforderlich. \nSchwerpunkte des Barista-Seminars:\n– Von der Pflanze bis zur Tasse – Kleine Kaffeekunde (Sorten/Varietäten\, Anbau\, Ernte\, Verarbeitung\, Röstung)\n– Sensorik und Verkostung verschiedener Sorten und Varietäten\n– Bohne\, Maschine\, Mühle & Mensch – Einflussfaktoren auf einen guten Espresso/Cappuccino\n– praktische Gruppenarbeit: Einstellung der Mühle\n– Zubereitung: Der perfekte Espresso & der perfekte Milchschaum \nUnterschied zum Barista basic: kleinere Gruppe\, mehr Praxis an den Maschinen\, 60 Seiten Handout inkl. \nZeit: 10 – 17 h mit Pause\nKosten: 199 € inkl. neuem 60-Seiten-Handout\, nicht enthalten sind Verpflegung und Übernachtung\nTeilnehmerzahl: max. 8 Teilnehmer/innen\, mind. 4 Teilnehmer/innen
URL:https://www.bonner-kaffeeschule.de/event/barista-intensiv-62/
LOCATION:Bonner Kaffeeschule\, Klara-M.Faßbinder-Str. 6\, Bonn\, Nordrhein-Westfalen\, 53121\, Deutschland
CATEGORIES:Barista skills,Freizeitkurs
ATTACH;FMTTYPE=image/jpeg:https://www.bonner-kaffeeschule.de/wp-content/uploads/2020/03/200206_EIS__IMG8621.jpg
ORGANIZER;CN="Bonner Kaffeeschule":MAILTO:info@bonner-kaffeeschule.de
GEO:50.7426609;7.0476329
X-APPLE-STRUCTURED-LOCATION;VALUE=URI;X-ADDRESS=Bonner Kaffeeschule Klara-M.Faßbinder-Str. 6 Bonn Nordrhein-Westfalen 53121 Deutschland;X-APPLE-RADIUS=500;X-TITLE=Klara-M.Faßbinder-Str. 6:geo:7.0476329,50.7426609
END:VEVENT
END:VCALENDAR