BEGIN:VCALENDAR
VERSION:2.0
PRODID:-//Bonner Kaffeeschule - ECPv6.15.20//NONSGML v1.0//EN
CALSCALE:GREGORIAN
METHOD:PUBLISH
X-ORIGINAL-URL:https://www.bonner-kaffeeschule.de
X-WR-CALDESC:Veranstaltungen für Bonner Kaffeeschule
REFRESH-INTERVAL;VALUE=DURATION:PT1H
X-Robots-Tag:noindex
X-PUBLISHED-TTL:PT1H
BEGIN:VTIMEZONE
TZID:Europe/Berlin
BEGIN:DAYLIGHT
TZOFFSETFROM:+0100
TZOFFSETTO:+0200
TZNAME:CEST
DTSTART:20250330T010000
END:DAYLIGHT
BEGIN:STANDARD
TZOFFSETFROM:+0200
TZOFFSETTO:+0100
TZNAME:CET
DTSTART:20251026T010000
END:STANDARD
BEGIN:DAYLIGHT
TZOFFSETFROM:+0100
TZOFFSETTO:+0200
TZNAME:CEST
DTSTART:20260329T010000
END:DAYLIGHT
BEGIN:STANDARD
TZOFFSETFROM:+0200
TZOFFSETTO:+0100
TZNAME:CET
DTSTART:20261025T010000
END:STANDARD
BEGIN:DAYLIGHT
TZOFFSETFROM:+0100
TZOFFSETTO:+0200
TZNAME:CEST
DTSTART:20270328T010000
END:DAYLIGHT
BEGIN:STANDARD
TZOFFSETFROM:+0200
TZOFFSETTO:+0100
TZNAME:CET
DTSTART:20271031T010000
END:STANDARD
END:VTIMEZONE
BEGIN:VEVENT
DTSTART;TZID=Europe/Berlin:20260301T000000
DTEND;TZID=Europe/Berlin:20260829T000000
DTSTAMP:20260425T193145
CREATED:20260101T162756Z
LAST-MODIFIED:20260120T161804Z
UID:10000439-1772323200-1787961600@www.bonner-kaffeeschule.de
SUMMARY:SCA Roastery Diploma - Basics
DESCRIPTION:Die Speciality Coffee Association (SCA) ist die weltweite Instanz für Spezialitätenkaffee. Sie bietet mit ihren einheitlichem Ausbildungs- und Zertifizierungsprogramm gewissermaßen ein weltweites Zentralabitur für das Kaffeebusiness. Neben dem Cafè Diploma\, dem Coffee Trade Diploma und dem Sustainable Coffee Diploma finden wir mit dem Roastery Diploma einen Abschluss der Specialty Coffee Association\, der fachlich auf den eigenstänigen Betrieb einer Rösterei abzielt. \n  \n  \nDieser Abschluss kann erreicht werden durch das das erfolgreiche Absolvieren einzelner Ausbildungsmodule. Jedes dieser Module wird durch je eigene theoretische und praktische Prüfungen abgeschlossen. Mit bestandenen Prüfungen erhältst du eine entsprechende Zertifizierung. Alle Punkte und Zertifikate werden in deinem SCA-Account gesammelt\, so dass am Ende – je nach Ausbildungsweg – ein Diplom bei der SCA erlangt werden kann. \n  \n \n  \nFür das Roastery Diploma bieten wir nun erstmals ein Starter-Paket an: SCA Roastery Diploma – Basics \nHier werden in einem Zeitraum von vier bis sechs Monaten die Einzelmodule\n– Brewing Foundation und Intermediate\n– Sensory Foundation\, Intermediate und Professional\n– Roasting Foundation und Intermediate \nzusammen angeboten. Das zweite Paket enthält Green Coffee Foundation\, Roasting Professional und die beiden Foundation Kurse “Water & Preventive Maintenance” und “Coffee Sustanability Foundation”. Wir werden das zweite Paket ab Winter ’26/’27 anbieten. Zwischen den ersten beiden Roasting-Modulen und dem Professional sollten 6-12 Monate Erfahrungen am Röster gesammelt werden. \nDie aktuellen Termine der Module: \nSCA Roastery Diploma – Basics1. März @ 00:00 - 29. August @ 00:00  CET Betriebsferien13. April - 29. AprilWerksverkauf: Bonner Kaffeebrennerei2. Mai @ 11:00 - 14:00  CEST Teamcoaching – geschlossene Veranstaltung11. Mai - 13. MaiSCA-Sensory Foundation27. Mai @ 10:00 - 17:00  CEST SCA Sensory Intermediate28. Mai @ 10:00 - 29. Mai @ 17:00  CEST SCA Sensory Professional6. Juli @ 10:00 - 8. Juli @ 17:00  CEST Kursplanung quartalsmäßig10. Juli - 7. OktoberTeamcoaching: Sensorik – geschlossene Veranstaltung27. Juli - 29. JuliSCA Roasting24. August @ 10:00 - 27. August @ 17:00  CEST \nDas Gesamtpaket beinhalten die Workshoppreise und sämtliche Zertifizierungskosten der Specialty Coffee Association. Als Einzelkurse: 5.054\,-\, im Paket 4.800\,- €
URL:https://www.bonner-kaffeeschule.de/event/sca-roastery-diploma-basics/
LOCATION:Bonner Kaffeeschule\, Klara-M.Faßbinder-Str. 6\, Bonn\, Nordrhein-Westfalen\, 53121\, Deutschland
CATEGORIES:Roasting
ATTACH;FMTTYPE=image/jpeg:https://www.bonner-kaffeeschule.de/wp-content/uploads/2023/10/roasting_SCA.jpg
GEO:50.7426609;7.0476329
X-APPLE-STRUCTURED-LOCATION;VALUE=URI;X-ADDRESS=Bonner Kaffeeschule Klara-M.Faßbinder-Str. 6 Bonn Nordrhein-Westfalen 53121 Deutschland;X-APPLE-RADIUS=500;X-TITLE=Klara-M.Faßbinder-Str. 6:geo:7.0476329,50.7426609
END:VEVENT
BEGIN:VEVENT
DTSTART;TZID=Europe/Berlin:20260706T100000
DTEND;TZID=Europe/Berlin:20260708T170000
DTSTAMP:20260425T193145
CREATED:20251017T151124Z
LAST-MODIFIED:20260213T081600Z
UID:10000414-1783332000-1783530000@www.bonner-kaffeeschule.de
SUMMARY:SCA Sensory Professional
DESCRIPTION:Der Kurs Sensory Skills Professional baut auf den Konzepten und Fähigkeiten auf\, die im Kurs Sensory Skills Intermediate eingeführt wurden\, und bereitet die Kursteilnehmer auf leitende Tätigkeiten bei der sensorischen Bewertung von Kaffee und verwandten Produkten vor. Es ist die Königsdisziplin im Coffee Skills Program der SCA. In diesem interaktiven Kurs lernen die Kursteilnehmer\, sich an die Kaffee- und Sensorikstandards der Branche zu halten\, sie lernen die Implementierung der sensorischen Bewertung in einem Kaffeebetrieb kennen\, erwerben die erforderlichen Fähigkeiten\, um mit der Identifizierung und Beurteilung von Qualitäten bei Spezialitäten-Rohkaffee zu beginnen\, und zeigen\, wie man die Eigenschaften von Kaffeegetränken genau erfasst und beschreibt. Die Kursteilnehmer lernen\, wiederholbare und methodische sensorische Messungen von Kaffee durchzuführen und diese Ergebnisse zu interpretieren. In einer schriftlichen Prüfung werden die professionellen Kurskenntnisse geprüft\, während in einer praktischen Prüfung die oben beschriebenen Fähigkeiten auf der Grundlage verschiedener während des Kurses durchgeführter Arbeitstätigkeiten getestet werden. \nThe Sensory Skills Professional course builds on the concepts and skills introduced in the Sensory Skills Intermediate course and prepares the learner for managerial job functions in the sensory evaluation of coffee and related products. In this interactive course\, learners gain alignment with industry coffee and sensory standards; learn about the implementation of sensory evaluation in a coffee business; acquire the skills required to start identifying and evaluating qualities in specialty green coffee; and demonstrate how to accurately measure and describe coffee beverage characteristics. Participants will learn how to generate repeatable and methodical sensory measurements of coffee\, along with interpretation of those results. A written exam tests professional course knowledge while a practical exam tests the skills described above based on different working activities carried out during the course. \n  \n \nCredits für das SCA Coffee Diploma System: 25 \n\nDie WorkshopthemenDie RahmendatenAnmeldung zur Online-PrüfungDie Workshopthemen \nSENSORISCHE ÜBERSICHT – Bedeutung der sensorischen Analyse\nPHYSIOLOGIE UND SENSORISCHE ATTRIBUTE – Kette der Sinneswahrnehmung\, Empfindung und Wahrnehmung\, Einfluss von Reizinteraktionen auf die Wahrnehmung\, Schwellenwerte und Empfindlichkeit\,\nBIAS & FEHLER\, Psychologische Vorurteile\, Minderung von Verzerrungen bei der sensorischen Bewertung\,\nSCA FLAVOUR WHEEL & WCR LEXIKON – Anwendung und Taxonomie\nGUSTATORISCHE ATTRIBUTE IM KAFFEE – Rangintensität der gustatorischen Attribute\, Unterschiede in der Qualität von Attributen\nMUNDGEFÜHL IM KAFFEE\nPOSITIVE UND NEGATIVE ATTRIBUTE BEI ​​KAFFEE – Kulturelle Wahrnehmung von Aromen\, Unterscheidung und Bewertung des Geschmackswerts\, Attribute\, Häufige negative Attribute\nSENSORISCHE BESCHREIBENDE PROFILIERUNG – Grundlagen und sensorisch-deskriptive Methoden\, Daten analysieren und Ergebnisse interpretieren\nANWENDUNG DER CVA(Coffee Value Assessment)-PROTOKOLLE – Überprüfung und Anwendung des SCA-Cuppingprotokolls\, Verarbeitungshinweise mit SCA-Protokoll\, Kalibrierung der Lerngruppe mit SCA-Cuppingprotokoll\nSENSORISCHE PANEELE & KALIBRIERUNG ANGEWENDET- Deskriptive sensorische Bewertung\, Vorbereitung eines Trainingsprogramms\, Leistung\, Gesundheit und Wohlergehen des Sensorikpanels\nHALTBARKEIT\, VERBRAUCHERTEST UND PRODUKTENTWICKLUNG – Plan für sensorisches Testdesign \nDie Rahmendaten \nZielgruppe: Kaffeekenner mit fortgeschrittenen Fähigkeiten und detaillierten Kenntnissen der Kaffeekunde (z. B. mind. einjährige Tätigkeit\, leitende Funktion in einer Rösterei) und -Sensorik\nSeminardauer: Drei Tage 10:00 – 17/17:30 (inkl. Mittagspause)\nVorerfahrung: Dieser Kurs ist die Weiterführung des Kurses Sensory Intermediate und vertieft die dort behandelten Inhalte. Er richtet sich an alle\, die Profis der Kaffee-Sensorik werden möchten und über mehrjährige Erfahrung beim Cuppen verfügen. Voraussetzung ist das Level Sensory Intermediate. Zwischen Sensory Intermediate- und Professional-Prüfung müssen nach SCA-Vorgaben mind. drei Monate vergangen sein. Empfohlen werden Green Coffee und Roasting Intermediate.\nTeilnahmegebühr: 1199\,- bzw. 1099\,- für alle\, die ihren Sensory Intermediate in der Bonner Kaffeeschule gemacht haben. Darin enthalten ist 362\,95 € brutto Prüfungsgebühr der SCA. Nicht enthalten sind Unterkunft und Verpflegung.\nBildungsscheck: 50% bzw. 500\,- € der Workshopkosten können durch einen Bildungsscheck NRW übernommen werden.\nTeilnehmer: Mind. drei\, max. sechs Personen. Die Mindestteilnehmerzahl muss bis zur Bestellung der Prüfungskaffees – ein Monat vor Workshopbeginn – erreicht sein. Ansonsten fällt der Workshop leider aus.\nAnmeldung zur Online-Prüfung \nBitte gleichzeitig mit der Buchung eine Teilnahme zur theoretischen Prüfung über die SCA-Website anmelden:\n1. Melde einen Account an.\n2. Login mit dem neuen Account.\n3. Eingeloggt dem Link folgen und anschließend bitte dort gleich für die Prüfung (Request Enrollment) anmelden:\nscae.com/training-and-education. Die Prüfung ist im Anschluss an den Workshop möglich\, die Anmeldung muss zwingend vor Workshopbeginn geschehen. \n \nBitte gleichzeitig mit der Buchung eine Teilnahme zur theoretischen Prüfung über die SCA-Website anmelden.
URL:https://www.bonner-kaffeeschule.de/event/sca-sensory-professional-6/
LOCATION:Bonner Kaffeeschule\, Klara-M.Faßbinder-Str. 6\, Bonn\, Nordrhein-Westfalen\, 53121\, Deutschland
CATEGORIES:SCA-Kurse,Sensory skills
ATTACH;FMTTYPE=image/jpeg:https://www.bonner-kaffeeschule.de/wp-content/uploads/2021/05/Sensory21_2-1.jpg
ORGANIZER;CN="Bonner Kaffeeschule":MAILTO:info@bonner-kaffeeschule.de
GEO:50.7426609;7.0476329
X-APPLE-STRUCTURED-LOCATION;VALUE=URI;X-ADDRESS=Bonner Kaffeeschule Klara-M.Faßbinder-Str. 6 Bonn Nordrhein-Westfalen 53121 Deutschland;X-APPLE-RADIUS=500;X-TITLE=Klara-M.Faßbinder-Str. 6:geo:7.0476329,50.7426609
END:VEVENT
BEGIN:VEVENT
DTSTART;VALUE=DATE:20260710
DTEND;VALUE=DATE:20261008
DTSTAMP:20260425T193145
CREATED:20220910T130429Z
LAST-MODIFIED:20260328T165712Z
UID:10000141-1783641600-1791417599@www.bonner-kaffeeschule.de
SUMMARY:Kursplanung quartalsmäßig
DESCRIPTION:Die Kurse werden ein Quartal im Voraus aufgesetzt. Alle Kurse werden auch im Laufe des Jahres weiter angeboten. Termine\, die auf der Website nicht zu finden sind\, sind noch nicht geplant. \nWer auf dem Laufenden bleiben mag\, kann gerne einfach den Kalender unten auf der Termin-Seite abonnieren.
URL:https://www.bonner-kaffeeschule.de/event/kursplanung-quartalsmaessig-2/
LOCATION:Bonner Kaffeeschule\, Klara-M.Faßbinder-Str. 6\, Bonn\, Nordrhein-Westfalen\, 53121\, Deutschland
CATEGORIES:Barista skills,Brewing,Freizeitkurs,Roasting,SCA-Kurse,Sensory skills
ATTACH;FMTTYPE=image/jpeg:https://www.bonner-kaffeeschule.de/wp-content/uploads/2021/06/Quartalsplanung2.jpg
ORGANIZER;CN="Bonner Kaffeeschule":MAILTO:info@bonner-kaffeeschule.de
GEO:50.7426609;7.0476329
X-APPLE-STRUCTURED-LOCATION;VALUE=URI;X-ADDRESS=Bonner Kaffeeschule Klara-M.Faßbinder-Str. 6 Bonn Nordrhein-Westfalen 53121 Deutschland;X-APPLE-RADIUS=500;X-TITLE=Klara-M.Faßbinder-Str. 6:geo:7.0476329,50.7426609
END:VEVENT
BEGIN:VEVENT
DTSTART;TZID=Europe/Berlin:20260720T100000
DTEND;TZID=Europe/Berlin:20260724T170000
DTSTAMP:20260425T193145
CREATED:20260328T170500Z
LAST-MODIFIED:20260412T072226Z
UID:10000460-1784541600-1784912400@www.bonner-kaffeeschule.de
SUMMARY:SCA-Barista Ausbildungswoche
DESCRIPTION:Die Speciality Coffee Association (SCA) ist die weltweite Instanz für Spezialitätenkaffee. Sie bietet mit ihren einheitlichem Ausbildungs- und Zertifizierungsprogramm gewissermaßen ein Zentralabitur für Baristi. In jedem Modul gibt es drei Level der Zertifizierung: Foundation (Basis)\, Intermediate (Fortgeschritten) und Professional (Experte). In einem fünftägigen Workshop (inkl. der Prüfungen) wird eine umfangreiche theoretische und praktische Grundlage zur Absolvierung der Prüfungen "Introduction into coffee"\, "SCA Barista Level Foundation" und "SCA Barista Level Intermediate" geschaffen. \nDie Ausbildungswoche ist für all die geeignet\, die bereits im Kaffee- oder Barsektor arbeiten und über grundlegende Kenntnisse verfügen. In diesem Kurs zum SCA-Barista werden kompakt drei Module des SCA-Ausbildungssystems umgesetzt und die fortgeschrittenen Fähigkeiten des Barista auf eine solide Basis gebracht und ausgebaut. \nDie Module des SCA-Ausbildungssystems "Introduction"\, Barista Foundation und Barista Intermediate\n… werden innerhalb der fünf Tage absolviert. \n\nDie Workshopthemen:Die RahmendatenAnmeldung zur Online-PrüfungDie Workshopthemen: \n– Einführung in Anbau\, Aufbereitung und Verarbeitung der Kaffeepflanze\n– Grundlagen der Sensorik und Cupping/Verkostung verschiedener Kaffees im Laufe der Ausbildungswoche\n– Extraktionstheorie & typische Fehler bei der Extraktion\n– Einstellen von Maschine und Mühle\, Reinigung\n– Grundlagen der Espresso-Sensorik\n– Sensorische Bestimmung von Brühphasen und Espresso-Rezepturen\n– Barista-Menü: Qualität\, Zeit & Sauberkeit bei der Zubereitung\n– Arbeitsplatzorganisation\n– Milchschaumtechnik nach SCA-Standards\n– Grundlagen der Latte Art\n– Training an der Espressomaschine / täglich\, Prüfungstrainings \nDer Kurs dauert fünf Tage\, die praktischen Prüfungen werden im Rahmen des Workshops abgenommen. Die theoretische Prüfungen erfolgen als Onlineprüfungen außerhalb des Workshops. \nDie Rahmendaten \nZielgruppe: Alle Mitarbeiter und Profis der Kaffeebranche\, Existenzgründer und natürlich alle ambitionierten Home-Baristi und Privatpersonen\, die sich für Kaffee interessieren und ihr Wissen vertiefen möchten.\nSeminardauer: Fünf Tage 10:00 – ca. 17:00 (inkl. Mittagspause)\, am letzten Tag bis ca. 14 Uhr\nGesamtpreis: 1499\,- (inkl. MwSt. und allen genannten SCA-Zertifizierungen)\nPrüfungsgebühr der SCA: Introduction to coffee – 119 € brutto\, CDS Punkte: 10\nBarista Foundation – 119 € brutto\, CDS Punkte: 5\nBarista Intermediate – 243\,95 € brutto Prüfungsgebühr \, CDS Punkte: 10\nmögliche Punkte im Coffee Skills Program: 25\nBildungsgutschein NRW: 500\,- € der Workshopkosten können durch einen Bildungsscheck übernommen werden.\nTeilnehmer: mindestens 3\, max. 6 Personen \nAnmeldung zur Online-Prüfung \nBitte gleichzeitig eine Teilnahme über die SCA-Website anmelden\, da hier im Anschluß an den Workshop die theoretischen Prüfungen abgehalten werden: \n1. Eröffne einen Account auf der SCA-Website. “Create an account”.\n2. Eingeloggt den Links folgen und anschließend bitte dort gleich für jede Prüfung (Request Enrollment) anmelden: \nIntroduction – scae.com/training-and-education/\nBarista Foundation – scae.com/training-and-education/\nBarista Intermediate – scae.com/training-and-education/ \n \nBitte gleichzeitig mit der Buchung eine Teilnahme zu den theoretischen Prüfungen über die SCA-Website anmelden. \nAnmeldung zur Prüfung \nBitte gleichzeitig mit der Buchung eine Teilnahme zur theoretischen Prüfung über die SCA-Website anmelden: \n1. Melde einen Account an.\n2. Login mit dem neuen Account.\n3. Eingeloggt dem Link folgen und anschließend bitte dort gleich für die Prüfungen (Request Enrollment) anmelden:\nIntroduction – scae.com/training-and-education/\nBarista Foundation – scae.com/training-and-education/\nBarista Intermediate – scae.com/training-and-education/
URL:https://www.bonner-kaffeeschule.de/event/sca-barista-ausbildungswoche-39/
LOCATION:Bonner Kaffeeschule\, Klara-M.Faßbinder-Str. 6\, Bonn\, Nordrhein-Westfalen\, 53121\, Deutschland
CATEGORIES:Barista skills,SCA-Kurse
ATTACH;FMTTYPE=image/jpeg:https://www.bonner-kaffeeschule.de/wp-content/uploads/2021/05/Barista21_2.jpg
ORGANIZER;CN="Bonner Kaffeeschule":MAILTO:info@bonner-kaffeeschule.de
GEO:50.7426609;7.0476329
X-APPLE-STRUCTURED-LOCATION;VALUE=URI;X-ADDRESS=Bonner Kaffeeschule Klara-M.Faßbinder-Str. 6 Bonn Nordrhein-Westfalen 53121 Deutschland;X-APPLE-RADIUS=500;X-TITLE=Klara-M.Faßbinder-Str. 6:geo:7.0476329,50.7426609
END:VEVENT
BEGIN:VEVENT
DTSTART;VALUE=DATE:20260727
DTEND;VALUE=DATE:20260730
DTSTAMP:20260425T193145
CREATED:20260403T100421Z
LAST-MODIFIED:20260403T100558Z
UID:10000464-1785110400-1785369599@www.bonner-kaffeeschule.de
SUMMARY:Teamcoaching: Sensorik - geschlossene Veranstaltung
DESCRIPTION:
URL:https://www.bonner-kaffeeschule.de/event/teamcoaching-sensorik-geschlossene-veranstaltung/
LOCATION:Bonner Kaffeeschule\, Klara-M.Faßbinder-Str. 6\, Bonn\, Nordrhein-Westfalen\, 53121\, Deutschland
CATEGORIES:SCA-Kurse,Sensory skills
ATTACH;FMTTYPE=image/jpeg:https://www.bonner-kaffeeschule.de/wp-content/uploads/2021/05/Sensory21_2.jpg
ORGANIZER;CN="Bonner Kaffeeschule":MAILTO:info@bonner-kaffeeschule.de
GEO:50.7426609;7.0476329
X-APPLE-STRUCTURED-LOCATION;VALUE=URI;X-ADDRESS=Bonner Kaffeeschule Klara-M.Faßbinder-Str. 6 Bonn Nordrhein-Westfalen 53121 Deutschland;X-APPLE-RADIUS=500;X-TITLE=Klara-M.Faßbinder-Str. 6:geo:7.0476329,50.7426609
END:VEVENT
END:VCALENDAR