BEGIN:VCALENDAR
VERSION:2.0
PRODID:-//Bonner Kaffeeschule - ECPv6.15.20//NONSGML v1.0//EN
CALSCALE:GREGORIAN
METHOD:PUBLISH
X-WR-CALNAME:Bonner Kaffeeschule
X-ORIGINAL-URL:https://www.bonner-kaffeeschule.de
X-WR-CALDESC:Veranstaltungen für Bonner Kaffeeschule
REFRESH-INTERVAL;VALUE=DURATION:PT1H
X-Robots-Tag:noindex
X-PUBLISHED-TTL:PT1H
BEGIN:VTIMEZONE
TZID:Europe/Berlin
BEGIN:DAYLIGHT
TZOFFSETFROM:+0100
TZOFFSETTO:+0200
TZNAME:CEST
DTSTART:20250330T010000
END:DAYLIGHT
BEGIN:STANDARD
TZOFFSETFROM:+0200
TZOFFSETTO:+0100
TZNAME:CET
DTSTART:20251026T010000
END:STANDARD
BEGIN:DAYLIGHT
TZOFFSETFROM:+0100
TZOFFSETTO:+0200
TZNAME:CEST
DTSTART:20260329T010000
END:DAYLIGHT
BEGIN:STANDARD
TZOFFSETFROM:+0200
TZOFFSETTO:+0100
TZNAME:CET
DTSTART:20261025T010000
END:STANDARD
BEGIN:DAYLIGHT
TZOFFSETFROM:+0100
TZOFFSETTO:+0200
TZNAME:CEST
DTSTART:20270328T010000
END:DAYLIGHT
BEGIN:STANDARD
TZOFFSETFROM:+0200
TZOFFSETTO:+0100
TZNAME:CET
DTSTART:20271031T010000
END:STANDARD
END:VTIMEZONE
BEGIN:VEVENT
DTSTART;TZID=Europe/Berlin:20260103T110000
DTEND;TZID=Europe/Berlin:20260103T140000
DTSTAMP:20260425T193224
CREATED:20250708T130427Z
LAST-MODIFIED:20260401T060123Z
UID:10000430-1767438000-1767448800@www.bonner-kaffeeschule.de
SUMMARY:Werksverkauf: Bonner Kaffeebrennerei
DESCRIPTION:Handwerklich geröstet\, von ausgesuchten Plantagen aus Brasilien\, Guatemala\, Kolumbien\, Äthiopien\, Ruanda und Indien. \nIm Verkostungswettbewerb der deutschen Röstergilde 2025 mit Gold ausgezeichnet: Under Pressure #2 – als Espresso oder Café Crème mit einer Aromatik von roten Früchten und karamelligen Noten. Mit Milch kann’s süchtig machen…. Bombtrack – ein nussigschokoladiger Blend für Siebträger uns Vollautomaten und ein besonderes Special: Die saisonalen Kaffees Changes #1 bis #4 – als Filterkaffee sind zurück für kurze Zeit. Ein wunderbarer Single-Origin Filterkaffee als Mitbringsel vom Fieldtrip nach Ruanda. \nMehr Infos zu den Kaffees unter: bonner-kaffeebrennerei.de \nDer eine oder andere Filterkaffee steht zum Probieren bereit… Drum erwartet bitte nicht die Geschwindigkeit wie an der Discounter-Kasse ;-)
URL:https://www.bonner-kaffeeschule.de/event/werksevrkauf-bonner-kaffeebrennerei/2026-01-03/
LOCATION:Bonner Kaffeeschule\, Klara-M.Faßbinder-Str. 6\, Bonn\, Nordrhein-Westfalen\, 53121\, Deutschland
CATEGORIES:Roasting
ATTACH;FMTTYPE=image/jpeg:https://www.bonner-kaffeeschule.de/wp-content/uploads/2021/05/BonnerKaffeebrennerei_2.jpg
ORGANIZER;CN="Bonner Kaffeeschule":MAILTO:info@bonner-kaffeeschule.de
GEO:50.7426609;7.0476329
X-APPLE-STRUCTURED-LOCATION;VALUE=URI;X-ADDRESS=Bonner Kaffeeschule Klara-M.Faßbinder-Str. 6 Bonn Nordrhein-Westfalen 53121 Deutschland;X-APPLE-RADIUS=500;X-TITLE=Klara-M.Faßbinder-Str. 6:geo:7.0476329,50.7426609
END:VEVENT
BEGIN:VEVENT
DTSTART;TZID=Europe/Berlin:20260109T150000
DTEND;TZID=Europe/Berlin:20260109T183000
DTSTAMP:20260425T193224
CREATED:20251022T085521Z
LAST-MODIFIED:20260109T094454Z
UID:10000418-1767970800-1767983400@www.bonner-kaffeeschule.de
SUMMARY:Barista basic - ausgebucht
DESCRIPTION:Vorkenntnisse sind nicht erforderlich. Wer erfahren möchte\, welche Faktoren einen “perfekten” Espresso oder Cappuccino ausmachen\, ist hier genau richtig. Schwerpunkt des Seminars ist die praxisnahe Zubereitung an der Siebträger-Espressomaschine. \nGrading und Cupping – Kleine Kaffeekunde\nMischung\, Maschine\, Mühle & Mensch – Einflussfaktoren auf einen guten Espresso/Cappuccino\nZubereitung: Der perfekte Espresso & der perfekte Milchschaum \nUnterschied zum Barista intensiv: weniger Zeit\, mehr Teilnehmer/innen. \nSeminardauer: 3 1/2 bis 4 Stunden inkl. kleiner Pause\nTeilnahmegebühr: 129\,- Euro pro Person / 139\,- inkl. Handout\nMaximale Teilnehmer: 10\nHandout optional: Baristaskript\, überarbeitet – 60 Seiten\nZielgruppe: Privatpersonen\, die sich für Kaffee interessieren und ihr Wissen vertiefen möchten\, Siebträgerbesitzer\, Home-Baristi. Eignet sich nicht für Mitarbeiter/innen der Gastronomie.
URL:https://www.bonner-kaffeeschule.de/event/barista-basic-67/
LOCATION:Bonner Kaffeeschule\, Klara-M.Faßbinder-Str. 6\, Bonn\, Nordrhein-Westfalen\, 53121\, Deutschland
CATEGORIES:Barista skills,Freizeitkurs
ATTACH;FMTTYPE=image/jpeg:https://www.bonner-kaffeeschule.de/wp-content/uploads/2024/07/200206_EIS__IMG8545_kl.jpg
ORGANIZER;CN="Bonner Kaffeeschule":MAILTO:info@bonner-kaffeeschule.de
GEO:50.7426609;7.0476329
X-APPLE-STRUCTURED-LOCATION;VALUE=URI;X-ADDRESS=Bonner Kaffeeschule Klara-M.Faßbinder-Str. 6 Bonn Nordrhein-Westfalen 53121 Deutschland;X-APPLE-RADIUS=500;X-TITLE=Klara-M.Faßbinder-Str. 6:geo:7.0476329,50.7426609
END:VEVENT
BEGIN:VEVENT
DTSTART;TZID=Europe/Berlin:20260112T100000
DTEND;TZID=Europe/Berlin:20260112T163000
DTSTAMP:20260425T193224
CREATED:20251022T091315Z
LAST-MODIFIED:20251223T104949Z
UID:10000420-1768212000-1768235400@www.bonner-kaffeeschule.de
SUMMARY:Introduction to coffee - ausgebucht
DESCRIPTION:Die Speciality Coffee Association (SCA) ist die weltweite Instanz für Spezialitätenkaffee. Sie bietet mit ihren einheitlichem Ausbildungs- und Zertifizierungsprogramm gewissermaßen ein Zentralabitur für Baristi. \nDiese Einführung in das Thema richtet sich an diejenigen\, die sich grundlegend zum Thema Spezialitätenkaffee informieren möchten. Der Kurs eignet sich ebenso für Kaffeeliebhaber/innen\, die gerne tiefer in die Materie einsteigen möchten sowie Baristi und Röster\, die ihr Kaffeewissen fundieren möchten. Der Kurs ist eine ideale Vorbereitung auf die Foundation- oder Intermediate-Level der weiteren CSP Module (Barista\, Brewing oder Sensory). Der Workshop wird mit einer theoretische Prüfung nach Vorgabe der Specialty Coffee Association (SCA) als Online-Prüfung abgeschlossen. Mit Bestehen der Prüfung werden 10 CSP Punkte vergeben. \nDieser Kurs vermittelt einen Einblick in die Grundlagen des Kaffees – vom Anbau bis zur Tasse – und berücksichtigt dabei die Logik der SCA-Kaffeewertanalyse. Zu den wichtigsten Lerninhalten gehören: \n– Den Weg des Kaffees von der Farm bis zur Tasse kennenlernen\n– Einen Überblick über die Kaffeezubereitung bekommen\n– Kaffeearomen und Frische verstehen \nDie RahmendatenAnmeldung zur PrüfungDie Rahmendaten \nZielgruppe: Kaffeeliebhaber/innen\, die ihr Wissen vertiefen möchten. Kaffeeprofis.\nSeminardauer: 10-16/16.30 Uhr\nTeilnahmegebühr: 309\,- € inkl. Prüfungsgebühren und MwSt. Nicht enthalten sind Unterkunft und Verpflegung.\nPrüfungsgebühren der SCA: im Preis enthalten\, CDS Punkte: 5.\nBildungsprämie: 50% (bzw. max. 500\,-€) der Workshopkosten können durch einen Bildungsscheck des Landes NRW übernommen werden.\nTeilnehmer: mindestens 2\, max. 6 Personen \nAnmeldung zur Prüfung \nBitte gleichzeitig mit der Buchung eine Teilnahme zur theoretischen Prüfung über die SCA-Website anmelden:\n1. Eröffne einen Account auf der SCA-Website. “Create an account”.\n2. Eingeloggt dem Link folgen und anschließend bitte dort gleich für die Prüfung (Request Enrollment) anmelden: scae.com/training-and-education/. \n \nBitte gleichzeitig mit der Buchung eine Teilnahme zur theoretischen Prüfung über die SCA-Website anmelden. \nAnmeldung zur Prüfung \nBitte gleichzeitig mit der Buchung eine Teilnahme zur theoretischen Prüfung über die SCA-Website anmelden:\n1. Melde einen Account an.\n2. Login mit dem neuen Account.\n3. Eingeloggt dem Link folgen und anschließend bitte dort gleich für die Prüfung (Request Enrollment) anmelden: specialtycoffee.my.site.com. Die Prüfung ist im Anschluss an den Workshop möglich\, die Anmeldung muss zwingend vor Workshopbeginn geschehen.
URL:https://www.bonner-kaffeeschule.de/event/introduction-to-coffee/
LOCATION:Bonner Kaffeeschule\, Klara-M.Faßbinder-Str. 6\, Bonn\, Nordrhein-Westfalen\, 53121\, Deutschland
CATEGORIES:SCA-Kurse
ATTACH;FMTTYPE=image/png:https://www.bonner-kaffeeschule.de/wp-content/uploads/2018/01/CSP-icons-v2-artwork-Introduction-_grey.png
ORGANIZER;CN="Bonner Kaffeeschule":MAILTO:info@bonner-kaffeeschule.de
GEO:50.7426609;7.0476329
X-APPLE-STRUCTURED-LOCATION;VALUE=URI;X-ADDRESS=Bonner Kaffeeschule Klara-M.Faßbinder-Str. 6 Bonn Nordrhein-Westfalen 53121 Deutschland;X-APPLE-RADIUS=500;X-TITLE=Klara-M.Faßbinder-Str. 6:geo:7.0476329,50.7426609
END:VEVENT
BEGIN:VEVENT
DTSTART;TZID=Europe/Berlin:20260113T100000
DTEND;TZID=Europe/Berlin:20260114T160000
DTSTAMP:20260425T193224
CREATED:20250915T165038Z
LAST-MODIFIED:20251211T093409Z
UID:10000409-1768298400-1768406400@www.bonner-kaffeeschule.de
SUMMARY:SCA-Barista Foundation - ausgebucht
DESCRIPTION:Die Speciality Coffee Association (SCA) ist die weltweite Instanz für Spezialitätenkaffee. Sie bietet mit ihren einheitlichem Ausbildungs- und Zertifizierungsprogramm gewissermaßen ein Zentralabitur für Baristi. In jedem Modul gibt es drei Level der Zertifizierung geben: Foundation (Basis)\, Intermediate (Fortgeschritten) und Professional (Experte). Dieser Kurs qualifiziert zum Foundation-Barista. In einem zweitägigen Workshop (inkl. der Prüfungen) wird eine umfangreiche theoretische und praktische Grundlage zur Absolvierung der Prüfungen zum SCA Barista Level Foundation geschaffen. \n  \n\nDie WorkshopthemenDie RahmendatenAnmeldung zur Online-PrüfungDie Workshopthemen \nExtraktionstheorie & typische Fehler bei der Extraktion\nEinstellen von Maschine und Mühle\, Wartung und Pflege\nTraining an der Espressomaschine\nKorrektes Milchaufschäumen Training an der Espressomaschine\nSCA-Prüfung (drei Prüfungsparts\, praktisch) – Barista Level Foundation \nDie thoretische Prüfung erfolgt im Anschluß an den Workshop als Online-Examen. \n  \nDie Rahmendaten \nZielgruppe: Alle Mitarbeiter und Profis der Kaffeebranche\, Existenzgründer und natürlich alle Home-Baristi und Privatpersonen\, die sich für Kaffee interessieren und ihr Wissen vertiefen möchten. \nSeminardauer: Zwei Tage 10 – 16 Uhr \nTeilnahmegebühr: 549\,- inkl. MwSt. pro Person. Die Gebühren für die SCA-Zertifizierung (119\,- €) sind enthalten. Nicht enthalten sind Unterkunft und Verpflegung. \nBildungsscheck: 50% der Workshopkosten können durch einem Bildungsscheck NRW übernommen werden. \nTeilnehmer/innen: mindestens 3\, max. 6 Personen \nAnmeldung zur Online-Prüfung \nZudem muss gleichzeitig eine Teilnahme zur theoretischen Prüfung über die SCA-Website angemeldet werden.\n1. Eröffne einen Account auf der SCA-Website. “Create an account”.\n2. Eingeloggt dem Link folgen und anschließend bitte dort gleich für die Prüfung (Request Enrollment) anmelden: scae.com/training-and-education. \n \nBitte mit der Buchung gleichzeitig auf der SCA-Website registrieren und zur Prüfung anmelden. \nAnmeldung zur Prüfung \nBitte gleichzeitig mit der Buchung eine Teilnahme zur theoretischen Prüfung über die SCA-Website anmelden:\n1. Melde einen Account an.\n2. Login mit dem neuen Account.\n3. Eingeloggt dem Link folgen und anschließend bitte dort gleich für die Prüfung (Request Enrollment) anmelden:\nspecialtycoffee.my.site.com. Die Prüfung ist im Anschluss an den Workshop möglich\, die Anmeldung muss zwingend vor Workshopbeginn geschehen.
URL:https://www.bonner-kaffeeschule.de/event/sca-barista-foundation-17/
LOCATION:Bonner Kaffeeschule\, Klara-M.Faßbinder-Str. 6\, Bonn\, Nordrhein-Westfalen\, 53121\, Deutschland
CATEGORIES:Barista skills,SCA-Kurse
ATTACH;FMTTYPE=image/jpeg:https://www.bonner-kaffeeschule.de/wp-content/uploads/2021/05/Barista21_2.jpg
ORGANIZER;CN="Bonner Kaffeeschule":MAILTO:info@bonner-kaffeeschule.de
GEO:50.7426609;7.0476329
X-APPLE-STRUCTURED-LOCATION;VALUE=URI;X-ADDRESS=Bonner Kaffeeschule Klara-M.Faßbinder-Str. 6 Bonn Nordrhein-Westfalen 53121 Deutschland;X-APPLE-RADIUS=500;X-TITLE=Klara-M.Faßbinder-Str. 6:geo:7.0476329,50.7426609
END:VEVENT
BEGIN:VEVENT
DTSTART;TZID=Europe/Berlin:20260115T100000
DTEND;TZID=Europe/Berlin:20260116T170000
DTSTAMP:20260425T193224
CREATED:20250915T164628Z
LAST-MODIFIED:20251223T105004Z
UID:10000408-1768471200-1768582800@www.bonner-kaffeeschule.de
SUMMARY:SCA-Barista Intermediate - 1 Platz frei
DESCRIPTION:Die Speciality Coffee Association (SCA) ist die weltweite Instanz für Spezialitätenkaffee. Sie bietet mit ihren einheitlichem Ausbildungs- und Zertifizierungsprogramm gewissermaßen ein Zentralabitur für Baristi. In jedem Modul gibt es drei Level der Zertifizierung geben: Foundation (Basis)\, Intermediate (Fortgeschritten) und Professional (Experte). Dieser Kurs qualifiziert zum Intermediate-Barista. In einem zweitägigem Workshop (inkl. der Prüfungen) wird eine umfangreiche theoretische und praktische Grundlage zur Absolvierung der Prüfungen zum SCA Barista Level Intermediate geschaffen. \n  \nDieses Level ist für all die geeignet\, die bereits im Kaffee- oder Barsektor arbeiten und über grundlegende Kenntnisse verfügen. In diesem Kurs werden die fortgeschrittenen Fähigkeiten des Barista auf eine solide Basis gebracht und ausgebaut. Alle Inhalte aus dem Foundation-Kurs werden vorausgesetzt und nicht eigens wiederholt. \nCredits für das SCA Coffee Diploma System: 10 \nDas Seminar Barista-Intermediate dauert zwei Tage. Die praktischen Prüfungen werden voraussichtlich am zweiten Tag abgenommen. \n\nDie WorkshopthemenDie RahmendatenAnmeldung zur Online-PrüfungDie Workshopthemen\nTag 1\nGrundlagen der Espresso-Sensorik\nSensorische Bestimmung von Brühphasen Espresso-Rezepturen und ihre sensorische Bewertung\nExtraktionstheorie & typische Fehler bei der Extraktion\nEinstellen von Maschine und Mühle\, Wartung und Pflege\nTraining an der Espressomaschine \nTag 2\nMilchschaumtechnik nach SCA-Standards\nGrundlagen der Latte Art I\nTraining Barista-Menü: Geschwindigkeit\, Sauberkeit\, Zeit\nArbeitsplatzorganisation Gästeservice\, Hygiene\, Sicherheit & Gesundheit\nGrundlagen der Latte Art II Wiederholung des bisher Erlernten\nSCA-Barista-Prüfungen (praktisch) – Barista Level Intermediate \nDie Rahmendaten \nZielgruppe: Alle Mitarbeiter*innen und Profis der Kaffeebranche\, Existenzgründer und natürlich alle ambitionierten Home-Baristi und Privatpersonen\, die sich für Kaffee interessieren und ihr Wissen vertiefen möchten.\nSeminardauer: Zwei Tage 10.00 – 17.30/18.00 Uhr\nVorerfahrung: Dieses Prüfungslevel ist für alle geeignet\, die in dem Sektor arbeiten und über grundlegende Kenntnisse verfügen. Die Foundation-Zertifizierung ist sehr hilfreich\, ebenso Grundkenntnisse im Bereich Latte Art. Alle Inhalte aus dem Foundation-Kurs werden vorausgesetzt und nicht eigens wiederholt. Im praktischen Bereich der Abschlußprüfung werden das exakte Einstellen von Brührezepten mit der Mühle\, Latte Art\, Sensorik und das korrekte Herstellen verschiedener espressobasierter Getränke in einem engen zeitlichen Rahmen verlangt.\nTeilnahmegebühr: 749\,-. Darin enthalten sind 243\,95 € brutto Prüfungsgebühr der SCA. Nicht enthalten sind Unterkunft und Verpflegung.\nBildungsprämie: 50% der Workshopkosten können durch einen Bildungsgutschein des Landes NRW übernommen werden.\nTeilnehmer/innen: mindestens 2\, max. 6 Personen \nAnmeldung zur Online-Prüfung \nBitte gleichzeitig mit der Buchung eine Teilnahme zur theoretischen Prüfung über die SCA-Website anmelden:\n1. Eröffne einen Account auf der SCA-Website. “Create an account”.\n2. Eingeloggt dem Link folgen und anschließend bitte dort gleich für die Prüfung (Request Enrollment) anmelden: specialtycoffee.my.site.com. Die Prüfung ist im Anschluss an den Workshop möglich\, die Anmeldung muss zwingend vor Workshopbeginn geschehen. \n \nBitte mit der Buchung gleich auf der SCA-Website registrieren und zur Prüfung anmelden.
URL:https://www.bonner-kaffeeschule.de/event/sca-barista-intermediate-10/
LOCATION:Bonner Kaffeeschule\, Klara-M.Faßbinder-Str. 6\, Bonn\, Nordrhein-Westfalen\, 53121\, Deutschland
CATEGORIES:Barista skills,SCA-Kurse
ATTACH;FMTTYPE=image/jpeg:https://www.bonner-kaffeeschule.de/wp-content/uploads/2021/05/Barista21_2.jpg
ORGANIZER;CN="Bonner Kaffeeschule":MAILTO:info@bonner-kaffeeschule.de
GEO:50.7426609;7.0476329
X-APPLE-STRUCTURED-LOCATION;VALUE=URI;X-ADDRESS=Bonner Kaffeeschule Klara-M.Faßbinder-Str. 6 Bonn Nordrhein-Westfalen 53121 Deutschland;X-APPLE-RADIUS=500;X-TITLE=Klara-M.Faßbinder-Str. 6:geo:7.0476329,50.7426609
END:VEVENT
BEGIN:VEVENT
DTSTART;TZID=Europe/Berlin:20260118T100000
DTEND;TZID=Europe/Berlin:20260118T170000
DTSTAMP:20260425T193224
CREATED:20251022T085842Z
LAST-MODIFIED:20251223T152937Z
UID:10000419-1768730400-1768755600@www.bonner-kaffeeschule.de
SUMMARY:Barista intensiv - ausgebucht
DESCRIPTION:In diesem Barista-Intensiv-Seminar liegt der Schwerpunkt auf einer Kaffeekunde\, die helfen soll\, sich in der Kaffewelt besser zurecht zu finden und natürlich in der Praxis an der Siebträgermaschine. Auch Raum für individuelle Fragen ist eingeplant. \nDas Seminar richtet sich an ambitionierte Kaffeeliebhaber/innen\, Siebträger-Besitzer/innen\, Home-Baristi und führt ein in die Genießerwelt des perfekten Espresso und Cappuccinos. Eignet sich nicht für Mitarbeiter/innen der Gastronomie. Erste Kenntnisse im Umgang mit Siebträgermaschinen sind hilfreich\, aber nicht zwingend erforderlich. \nSchwerpunkte des Barista-Seminars:\n– Von der Pflanze bis zur Tasse – Kleine Kaffeekunde (Sorten/Varietäten\, Anbau\, Ernte\, Verarbeitung\, Röstung)\n– Sensorik und Verkostung verschiedener Sorten und Varietäten\n– Bohne\, Maschine\, Mühle & Mensch – Einflussfaktoren auf einen guten Espresso/Cappuccino\n– praktische Gruppenarbeit: Einstellung der Mühle\n– Zubereitung: Der perfekte Espresso & der perfekte Milchschaum \nUnterschied zum Barista basic: kleinere Gruppe\, mehr Praxis an den Maschinen\, 60 Seiten Handout inkl. \nZeit: 10 – 17 h mit Pause\nKosten: 199 € ohne Handout; 209\,- € inkl. neuem 60-Seiten-Handout\, nicht enthalten sind Verpflegung und Übernachtung\nTeilnehmerzahl: max. 8 Teilnehmer/innen\, mind. 4 Teilnehmer/innen
URL:https://www.bonner-kaffeeschule.de/event/barista-intensiv-68/
LOCATION:Bonner Kaffeeschule\, Klara-M.Faßbinder-Str. 6\, Bonn\, Nordrhein-Westfalen\, 53121\, Deutschland
CATEGORIES:Barista skills,Freizeitkurs
ATTACH;FMTTYPE=image/jpeg:https://www.bonner-kaffeeschule.de/wp-content/uploads/2020/03/200206_EIS__IMG8621.jpg
ORGANIZER;CN="Bonner Kaffeeschule":MAILTO:info@bonner-kaffeeschule.de
GEO:50.7426609;7.0476329
X-APPLE-STRUCTURED-LOCATION;VALUE=URI;X-ADDRESS=Bonner Kaffeeschule Klara-M.Faßbinder-Str. 6 Bonn Nordrhein-Westfalen 53121 Deutschland;X-APPLE-RADIUS=500;X-TITLE=Klara-M.Faßbinder-Str. 6:geo:7.0476329,50.7426609
END:VEVENT
BEGIN:VEVENT
DTSTART;VALUE=DATE:20260120
DTEND;VALUE=DATE:20260122
DTSTAMP:20260425T193224
CREATED:20250204T153808Z
LAST-MODIFIED:20251022T092107Z
UID:10000422-1768896000-1769014800@www.bonner-kaffeeschule.de
SUMMARY:Sensory Days - geschlossene Veranstaltung
DESCRIPTION:Geschlossene Veranstaltung \n 
URL:https://www.bonner-kaffeeschule.de/event/sensory-days-geschlossene-veranstaltung/2026-01-20/
LOCATION:Bonner Kaffeeschule\, Klara-M.Faßbinder-Str. 6\, Bonn\, Nordrhein-Westfalen\, 53121\, Deutschland
CATEGORIES:SCA-Kurse,Sensory skills
ATTACH;FMTTYPE=image/jpeg:https://www.bonner-kaffeeschule.de/wp-content/uploads/2021/05/Sensory21_2-1.jpg
ORGANIZER;CN="Bonner Kaffeeschule":MAILTO:info@bonner-kaffeeschule.de
GEO:50.7426609;7.0476329
X-APPLE-STRUCTURED-LOCATION;VALUE=URI;X-ADDRESS=Bonner Kaffeeschule Klara-M.Faßbinder-Str. 6 Bonn Nordrhein-Westfalen 53121 Deutschland;X-APPLE-RADIUS=500;X-TITLE=Klara-M.Faßbinder-Str. 6:geo:7.0476329,50.7426609
END:VEVENT
BEGIN:VEVENT
DTSTART;TZID=Europe/Berlin:20260123T150000
DTEND;TZID=Europe/Berlin:20260123T183000
DTSTAMP:20260425T193224
CREATED:20251227T155833Z
LAST-MODIFIED:20260114T163610Z
UID:10000437-1769180400-1769193000@www.bonner-kaffeeschule.de
SUMMARY:Barista basic - ausgebucht
DESCRIPTION:Vorkenntnisse sind nicht erforderlich. Wer erfahren möchte\, welche Faktoren einen “perfekten” Espresso oder Cappuccino ausmachen\, ist hier genau richtig. Schwerpunkt des Seminars ist die praxisnahe Zubereitung an der Siebträger-Espressomaschine. \nGrading und Cupping – Kleine Kaffeekunde\nMischung\, Maschine\, Mühle & Mensch – Einflussfaktoren auf einen guten Espresso/Cappuccino\nZubereitung: Der perfekte Espresso & der perfekte Milchschaum \nUnterschied zum Barista intensiv: weniger Praxis an den Maschinen\, mehr Teilnehmer/innen. \nSeminardauer: 3 1/2 bis 4 Stunden inkl. kleiner Pause\nTeilnahmegebühr: 129\,- Euro pro Person / 139\,- inkl. Handout\nMaximale Teilnehmer: 10\nHandout optional: Baristaskript\, überarbeitet – 60 Seiten\nZielgruppe: Privatpersonen\, die sich für Kaffee interessieren und ihr Wissen vertiefen möchten\, Siebträgerbesitzer\, Home-Baristi. Eignet sich nicht für Mitarbeiter/innen der Gastronomie.
URL:https://www.bonner-kaffeeschule.de/event/barista-basic-70/
LOCATION:Bonner Kaffeeschule\, Klara-M.Faßbinder-Str. 6\, Bonn\, Nordrhein-Westfalen\, 53121\, Deutschland
CATEGORIES:Barista skills,Freizeitkurs
ATTACH;FMTTYPE=image/jpeg:https://www.bonner-kaffeeschule.de/wp-content/uploads/2024/07/200206_EIS__IMG8545_kl.jpg
ORGANIZER;CN="Bonner Kaffeeschule":MAILTO:info@bonner-kaffeeschule.de
GEO:50.7426609;7.0476329
X-APPLE-STRUCTURED-LOCATION;VALUE=URI;X-ADDRESS=Bonner Kaffeeschule Klara-M.Faßbinder-Str. 6 Bonn Nordrhein-Westfalen 53121 Deutschland;X-APPLE-RADIUS=500;X-TITLE=Klara-M.Faßbinder-Str. 6:geo:7.0476329,50.7426609
END:VEVENT
BEGIN:VEVENT
DTSTART;TZID=Europe/Berlin:20260126T100000
DTEND;TZID=Europe/Berlin:20260130T170000
DTSTAMP:20260425T193224
CREATED:20251022T083541Z
LAST-MODIFIED:20260105T120041Z
UID:10000417-1769421600-1769792400@www.bonner-kaffeeschule.de
SUMMARY:SCA-Barista Ausbildungswoche - ausgebucht
DESCRIPTION:Die Speciality Coffee Association (SCA) ist die weltweite Instanz für Spezialitätenkaffee. Sie bietet mit ihren einheitlichem Ausbildungs- und Zertifizierungsprogramm gewissermaßen ein Zentralabitur für Baristi. In jedem Modul gibt es drei Level der Zertifizierung: Foundation (Basis)\, Intermediate (Fortgeschritten) und Professional (Experte). In einem fünftägigen Workshop (inkl. der Prüfungen) wird eine umfangreiche theoretische und praktische Grundlage zur Absolvierung der Prüfungen "Introduction into coffee"\, "SCA Barista Level Foundation" und "SCA Barista Level Intermediate" geschaffen. \nDie Ausbildungswoche ist für all die geeignet\, die bereits im Kaffee- oder Barsektor arbeiten und über grundlegende Kenntnisse verfügen. In diesem Kurs zum SCA-Barista werden kompakt drei Module des SCA-Ausbildungssystems umgesetzt und die fortgeschrittenen Fähigkeiten des Barista auf eine solide Basis gebracht und ausgebaut. \nDie Module des SCA-Ausbildungssystems "Introduction"\, Barista Foundation und Barista Intermediate\n… werden innerhalb der fünf Tage absolviert. \n\nDie Workshopthemen:Die RahmendatenAnmeldung zur Online-PrüfungDie Workshopthemen: \n– Einführung in Anbau\, Aufbereitung und Verarbeitung der Kaffeepflanze\n– Grundlagen der Sensorik und Cupping/Verkostung verschiedener Kaffees im Laufe der Ausbildungswoche\n– Extraktionstheorie & typische Fehler bei der Extraktion\n– Einstellen von Maschine und Mühle\, Reinigung\n– Grundlagen der Espresso-Sensorik\n– Sensorische Bestimmung von Brühphasen und Espresso-Rezepturen\n– Barista-Menü: Qualität\, Zeit & Sauberkeit bei der Zubereitung\n– Arbeitsplatzorganisation\n– Milchschaumtechnik nach SCA-Standards\n– Grundlagen der Latte Art\n– Training an der Espressomaschine / täglich\, Prüfungstrainings \nDer Kurs dauert fünf Tage\, die praktischen Prüfungen werden im Rahmen des Workshops abgenommen. Die theoretische Prüfungen erfolgen als Onlineprüfungen außerhalb des Workshops. \nDie Rahmendaten \nZielgruppe: Alle Mitarbeiter und Profis der Kaffeebranche\, Existenzgründer und natürlich alle ambitionierten Home-Baristi und Privatpersonen\, die sich für Kaffee interessieren und ihr Wissen vertiefen möchten.\nSeminardauer: Fünf Tage 10:00 – ca. 17:00 (inkl. Mittagspause)\, am letzten Tag bis ca. 14 Uhr\nGesamtpreis: 1499\,- (inkl. MwSt. und allen genannten SCA-Zertifizierungen)\nPrüfungsgebühr der SCA: Introduction to coffee – 119 € brutto\, CDS Punkte: 10\nBarista Foundation – 119 € brutto\, CDS Punkte: 5\nBarista Intermediate – 243\,95 € brutto Prüfungsgebühr \, CDS Punkte: 10\nmögliche Punkte im Coffee Skills Program: 25\nBildungsgutschein NRW: 500\,- € der Workshopkosten können durch einen Bildungsscheck übernommen werden.\nTeilnehmer: mindestens 3\, max. 6 Personen \nAnmeldung zur Online-Prüfung \nBitte gleichzeitig eine Teilnahme über die SCA-Website anmelden\, da hier im Anschluß an den Workshop die theoretischen Prüfungen abgehalten werden: \n1. Eröffne  einen Account auf der SCA-Website. “Create an account”.\n2. Eingeloggt den Links folgen und anschließend bitte dort gleich für jede Prüfung (Request Enrollment) anmelden: \nIntroduction – scae.com/training-and-education/\nBarista Foundation – scae.com/training-and-education/\nBarista Intermediate – scae.com/training-and-education/ \n \nBitte gleichzeitig mit der Buchung eine Teilnahme zu den theoretischen Prüfungen über die SCA-Website anmelden. \n \nAnmeldung zur Prüfung \nBitte gleichzeitig mit der Buchung eine Teilnahme zur theoretischen Prüfung über die SCA-Website anmelden: \n1. Melde einen
URL:https://www.bonner-kaffeeschule.de/event/sca-barista-ausbildungswoche-35/
LOCATION:Bonner Kaffeeschule\, Klara-M.Faßbinder-Str. 6\, Bonn\, Nordrhein-Westfalen\, 53121\, Deutschland
CATEGORIES:Barista skills,SCA-Kurse
ATTACH;FMTTYPE=image/jpeg:https://www.bonner-kaffeeschule.de/wp-content/uploads/2021/05/Barista21_2.jpg
ORGANIZER;CN="Bonner Kaffeeschule":MAILTO:info@bonner-kaffeeschule.de
GEO:50.7426609;7.0476329
X-APPLE-STRUCTURED-LOCATION;VALUE=URI;X-ADDRESS=Bonner Kaffeeschule Klara-M.Faßbinder-Str. 6 Bonn Nordrhein-Westfalen 53121 Deutschland;X-APPLE-RADIUS=500;X-TITLE=Klara-M.Faßbinder-Str. 6:geo:7.0476329,50.7426609
END:VEVENT
END:VCALENDAR